BEGIN:VCALENDAR
VERSION:2.0
PRODID:-//APUA - ECPv6.15.20//NONSGML v1.0//EN
CALSCALE:GREGORIAN
METHOD:PUBLISH
X-ORIGINAL-URL:https://apua.cz
X-WR-CALDESC:Akce na APUA
REFRESH-INTERVAL;VALUE=DURATION:PT1H
X-Robots-Tag:noindex
X-PUBLISHED-TTL:PT1H
BEGIN:VTIMEZONE
TZID:Europe/Prague
BEGIN:DAYLIGHT
TZOFFSETFROM:+0100
TZOFFSETTO:+0200
TZNAME:CEST
DTSTART:20240331T010000
END:DAYLIGHT
BEGIN:STANDARD
TZOFFSETFROM:+0200
TZOFFSETTO:+0100
TZNAME:CET
DTSTART:20241027T010000
END:STANDARD
BEGIN:DAYLIGHT
TZOFFSETFROM:+0100
TZOFFSETTO:+0200
TZNAME:CEST
DTSTART:20250330T010000
END:DAYLIGHT
BEGIN:STANDARD
TZOFFSETFROM:+0200
TZOFFSETTO:+0100
TZNAME:CET
DTSTART:20251026T010000
END:STANDARD
BEGIN:DAYLIGHT
TZOFFSETFROM:+0100
TZOFFSETTO:+0200
TZNAME:CEST
DTSTART:20260329T010000
END:DAYLIGHT
BEGIN:STANDARD
TZOFFSETFROM:+0200
TZOFFSETTO:+0100
TZNAME:CET
DTSTART:20261025T010000
END:STANDARD
END:VTIMEZONE
BEGIN:VEVENT
DTSTART;TZID=Europe/Prague:20251024T083000
DTEND;TZID=Europe/Prague:20251024T150000
DTSTAMP:20260423T220905
CREATED:20210915T133913Z
LAST-MODIFIED:20250716T122900Z
UID:3120-1761294600-1761318000@apua.cz
SUMMARY:Kybernetická bezpečnost pro běžné uživatele
DESCRIPTION:
URL:https://apua.cz/event/vychytavky-ve-wordu/
LOCATION:Online\, Online\, Online
END:VEVENT
BEGIN:VEVENT
DTSTART;TZID=Europe/Prague:20251023T090000
DTEND;TZID=Europe/Prague:20251023T120000
DTSTAMP:20260423T220905
CREATED:20250819T084657Z
LAST-MODIFIED:20250819T084657Z
UID:18593-1761210000-1761220800@apua.cz
SUMMARY:Elektronické podepisování
DESCRIPTION:
URL:https://apua.cz/event/elektronicke-podepisovani/
LOCATION:Online\, Online\, Online
END:VEVENT
BEGIN:VEVENT
DTSTART;TZID=Europe/Prague:20251017T090000
DTEND;TZID=Europe/Prague:20251017T140000
DTSTAMP:20260423T220905
CREATED:20250811T070004Z
LAST-MODIFIED:20250811T073240Z
UID:18334-1760691600-1760709600@apua.cz
SUMMARY:Úvod do vysokoškolského zákona a přehled základních agend VVŠ
DESCRIPTION:
URL:https://apua.cz/event/uvod-do-vysokoskolskeho-zakona-a-prehled-zakladnich-agend-vvs/
LOCATION:Online\, Online\, Online
END:VEVENT
BEGIN:VEVENT
DTSTART;TZID=Europe/Prague:20251017T090000
DTEND;TZID=Europe/Prague:20251017T130000
DTSTAMP:20260423T220905
CREATED:20240115T065736Z
LAST-MODIFIED:20250610T104141Z
UID:12981-1760691600-1760706000@apua.cz
SUMMARY:Umělá inteligence – základy
DESCRIPTION:
URL:https://apua.cz/event/umela-inteligence-ai-zaklady/
LOCATION:Online\, Online\, Online
END:VEVENT
BEGIN:VEVENT
DTSTART;TZID=Europe/Prague:20251007T090000
DTEND;TZID=Europe/Prague:20251007T130000
DTSTAMP:20260423T220905
CREATED:20250611T090618Z
LAST-MODIFIED:20250911T053206Z
UID:18207-1759827600-1759842000@apua.cz
SUMMARY:Základy občanského práva - smlouvy a rodinné vztahy
DESCRIPTION:
URL:https://apua.cz/event/zaklady-obcanskeho-prava-smlouvy-a-rodinne-vztahy/
LOCATION:Online\, Online\, Online
END:VEVENT
BEGIN:VEVENT
DTSTART;TZID=Europe/Prague:20251006T090000
DTEND;TZID=Europe/Prague:20251006T130000
DTSTAMP:20260423T220905
CREATED:20250908T063803Z
LAST-MODIFIED:20250908T063803Z
UID:18709-1759741200-1759755600@apua.cz
SUMMARY:Adaptace zaměstnanců
DESCRIPTION:
URL:https://apua.cz/event/adaptace-zamestnancu/
LOCATION:Online\, Online\, Online
END:VEVENT
BEGIN:VEVENT
DTSTART;TZID=Europe/Prague:20251006T090000
DTEND;TZID=Europe/Prague:20251006T130000
DTSTAMP:20260423T220905
CREATED:20250706T070027Z
LAST-MODIFIED:20250819T095442Z
UID:18138-1759741200-1759755600@apua.cz
SUMMARY:Praktický průvodce rovným a transparentním odměňováním
DESCRIPTION:
URL:https://apua.cz/event/prakticky-pruvodce-rovnym-a-transparentnim-odmenovanim-2/
LOCATION:Online\, Online\, Online
END:VEVENT
BEGIN:VEVENT
DTSTART;TZID=Europe/Prague:20250926T090000
DTEND;TZID=Europe/Prague:20250926T110000
DTSTAMP:20260423T220905
CREATED:20241204T094718Z
LAST-MODIFIED:20250314T093352Z
UID:16207-1758877200-1758884400@apua.cz
SUMMARY:Work life balance – jak zůstat produktivní a „happy“
DESCRIPTION:
URL:https://apua.cz/event/work-life-balance-jak-zustat-produktivni-a-happy/
LOCATION:Online\, Online\, Online
END:VEVENT
BEGIN:VEVENT
DTSTART;TZID=Europe/Prague:20250924T090000
DTEND;TZID=Europe/Prague:20250924T140000
DTSTAMP:20260423T220905
CREATED:20241127T092348Z
LAST-MODIFIED:20250606T073846Z
UID:15982-1758704400-1758722400@apua.cz
SUMMARY:Dotace (transfery) a nejen jejich účtování pro VVŠ v r. 2025
DESCRIPTION:
URL:https://apua.cz/event/dotace-transfery-a-nejen-jejich-uctovani-pro-vvs-v-r-2025/
LOCATION:Online\, Online\, Online
END:VEVENT
BEGIN:VEVENT
DTSTART;TZID=Europe/Prague:20250923T090000
DTEND;TZID=Europe/Prague:20250923T130000
DTSTAMP:20260423T220905
CREATED:20250814T070004Z
LAST-MODIFIED:20250815T081844Z
UID:18116-1758618000-1758632400@apua.cz
SUMMARY:Spory o skončení pracovního poměru
DESCRIPTION:
URL:https://apua.cz/event/spory-o-skonceni-pracovniho-pomeru/
LOCATION:Online\, Online\, Online
END:VEVENT
BEGIN:VEVENT
DTSTART;TZID=Europe/Prague:20250916T100000
DTEND;TZID=Europe/Prague:20250917T130000
DTSTAMP:20260423T220905
CREATED:20230317T185239Z
LAST-MODIFIED:20250915T063934Z
UID:9850-1758016800-1758114000@apua.cz
SUMMARY:Setkání pracovníků spisové služby
DESCRIPTION:
URL:https://apua.cz/event/setkani-pracovniku-spisove-sluzby/
LOCATION:Beltine forest hotel Ostravice\, Ostravice 938\, Ostravice\, 739 14\, Česká republika
END:VEVENT
BEGIN:VEVENT
DTSTART;TZID=Europe/Prague:20250911T120000
DTEND;TZID=Europe/Prague:20250911T140000
DTSTAMP:20260423T220905
CREATED:20250731T085344Z
LAST-MODIFIED:20250908T072530Z
UID:18549-1757592000-1757599200@apua.cz
SUMMARY:Online únikové hry ve výuce: Proměňte opakování v dobrodružství!
DESCRIPTION:
URL:https://apua.cz/event/online-unikove-hry-ve-vyuce-promente-opakovani-v-dobrodruzstvi/
LOCATION:Online\, Online\, Online
END:VEVENT
BEGIN:VEVENT
DTSTART;TZID=Europe/Prague:20250903T090000
DTEND;TZID=Europe/Prague:20250903T130000
DTSTAMP:20260423T220905
CREATED:20250611T091848Z
LAST-MODIFIED:20250611T091848Z
UID:18221-1756890000-1756904400@apua.cz
SUMMARY:Flexibilní novela zákoníku práce: první zkušenosti z praxe
DESCRIPTION:
URL:https://apua.cz/event/flexibilni-novela-zakoniku-prace-prvni-zkusenosti-z-praxe/
LOCATION:Online\, Online\, Online
END:VEVENT
BEGIN:VEVENT
DTSTART;TZID=Europe/Prague:20250821T090000
DTEND;TZID=Europe/Prague:20250821T120000
DTSTAMP:20260423T220905
CREATED:20250611T084623Z
LAST-MODIFIED:20250611T084623Z
UID:18194-1755766800-1755777600@apua.cz
SUMMARY:Emoční inteligence a její využití nejen v práci
DESCRIPTION:
URL:https://apua.cz/event/emocni-inteligence-a-jeji-vyuziti-nejen-v-praci/
LOCATION:Online\, Online\, Online
END:VEVENT
BEGIN:VEVENT
DTSTART;TZID=Europe/Prague:20250813T090000
DTEND;TZID=Europe/Prague:20250813T123000
DTSTAMP:20260423T220905
CREATED:20250515T083749Z
LAST-MODIFIED:20250515T131315Z
UID:4610-1755075600-1755088200@apua.cz
SUMMARY:MS PowerPoint – tvořte vizuálně zajímavé snímky jako profesionál
DESCRIPTION:
URL:https://apua.cz/event/vychytavky-v-powerpointu/
LOCATION:Online\, Online\, Online
END:VEVENT
BEGIN:VEVENT
DTSTART;TZID=Europe/Prague:20250812T090000
DTEND;TZID=Europe/Prague:20250812T130000
DTSTAMP:20260423T220905
CREATED:20250609T113133Z
LAST-MODIFIED:20250609T122322Z
UID:18101-1754989200-1755003600@apua.cz
SUMMARY:Umění diplomaticky argumentovat
DESCRIPTION:
URL:https://apua.cz/event/umeni-diplomaticky-argumentovat/
LOCATION:Online\, Online\, Online
END:VEVENT
BEGIN:VEVENT
DTSTART;TZID=Europe/Prague:20250807T090000
DTEND;TZID=Europe/Prague:20250807T120000
DTSTAMP:20260423T220905
CREATED:20250611T083422Z
LAST-MODIFIED:20250611T083422Z
UID:18183-1754557200-1754568000@apua.cz
SUMMARY:Sdělování nepříjemných věcí
DESCRIPTION:
URL:https://apua.cz/event/sdelovani-neprijemnych-veci/
LOCATION:Online\, Online\, Online
END:VEVENT
BEGIN:VEVENT
DTSTART;TZID=Europe/Prague:20250715T090000
DTEND;TZID=Europe/Prague:20250715T130000
DTSTAMP:20260423T220905
CREATED:20250609T120253Z
LAST-MODIFIED:20250609T122217Z
UID:18109-1752570000-1752584400@apua.cz
SUMMARY:Zvládání náročných manažerských situací
DESCRIPTION:
URL:https://apua.cz/event/zvladani-narocnych-manazerskych-situaci/
LOCATION:Online\, Online\, Online
END:VEVENT
BEGIN:VEVENT
DTSTART;TZID=Europe/Prague:20250619T090000
DTEND;TZID=Europe/Prague:20250619T160000
DTSTAMP:20260423T220905
CREATED:20240911T151459Z
LAST-MODIFIED:20250121T083114Z
UID:15168-1750323600-1750348800@apua.cz
SUMMARY:Prevence syndromu vyhoření
DESCRIPTION:
URL:https://apua.cz/event/prevence-syndromu-vyhoreni/
LOCATION:Praha – Konferenční centrum Sázava\, Konferenční centrum Sázava\, Chemická 952\, Praha\, Praha
END:VEVENT
BEGIN:VEVENT
DTSTART;TZID=Europe/Prague:20250618T090000
DTEND;TZID=Europe/Prague:20250618T120000
DTSTAMP:20260423T220905
CREATED:20250524T081005Z
LAST-MODIFIED:20250524T081005Z
UID:18023-1750237200-1750248000@apua.cz
SUMMARY:Zásadní dopady flexinovely v praxi – důsledky\, sankce\, náklady a jak jim předejít
DESCRIPTION:
URL:https://apua.cz/event/zasadni-dopady-flexinovely-v-praxi-dusledky-sankce-naklady-a-jak-jim-predejit/
LOCATION:Online\, Online\, Online
END:VEVENT
BEGIN:VEVENT
DTSTART;TZID=Europe/Prague:20250613T090000
DTEND;TZID=Europe/Prague:20250613T123000
DTSTAMP:20260423T220905
CREATED:20230125T121851Z
LAST-MODIFIED:20250520T073018Z
UID:9047-1749805200-1749817800@apua.cz
SUMMARY:Správní řád prakticky v prostředí VŠ
DESCRIPTION:
URL:https://apua.cz/event/spravni-rad-prakticky/
LOCATION:Online\, Online\, Online
END:VEVENT
BEGIN:VEVENT
DTSTART;TZID=Europe/Prague:20250613T090000
DTEND;TZID=Europe/Prague:20250613T120000
DTSTAMP:20260423T220905
CREATED:20241202T135109Z
LAST-MODIFIED:20250128T151659Z
UID:16019-1749805200-1749816000@apua.cz
SUMMARY:Jak si vytvořit druhý mozek v Obsidianu?
DESCRIPTION:
URL:https://apua.cz/event/jak-si-vytvorit-druhy-mozek-v-obsidianu/
LOCATION:Online\, Online\, Online
END:VEVENT
BEGIN:VEVENT
DTSTART;TZID=Europe/Prague:20250612T100000
DTEND;TZID=Europe/Prague:20250612T143000
DTSTAMP:20260423T220905
CREATED:20250520T072045Z
LAST-MODIFIED:20250603T071711Z
UID:4501-1749722400-1749738600@apua.cz
SUMMARY:Struktura a tvorba vnitřních předpisů
DESCRIPTION:
URL:https://apua.cz/event/struktura-a-tvorba-vnitrnich-predpisu/
LOCATION:Online\, Online\, Online
END:VEVENT
BEGIN:VEVENT
DTSTART;TZID=Europe/Prague:20250612T090000
DTEND;TZID=Europe/Prague:20250612T110000
DTSTAMP:20260423T220905
CREATED:20250225T151605Z
LAST-MODIFIED:20250225T151605Z
UID:17342-1749718800-1749726000@apua.cz
SUMMARY:Nařízení EU o umělé inteligenci (AI Act)
DESCRIPTION:
URL:https://apua.cz/event/narizeni-eu-o-umele-inteligenci-ai-act/
LOCATION:Online\, Online\, Online
END:VEVENT
BEGIN:VEVENT
DTSTART;TZID=Europe/Prague:20250603T090000
DTEND;TZID=Europe/Prague:20250603T120000
DTSTAMP:20260423T220905
CREATED:20250411T101007Z
LAST-MODIFIED:20250411T101007Z
UID:17769-1748941200-1748952000@apua.cz
SUMMARY:Právo v marketingu
DESCRIPTION:
URL:https://apua.cz/event/pravo-v-marketingu/
LOCATION:Online\, Online\, Online
END:VEVENT
BEGIN:VEVENT
DTSTART;TZID=Europe/Prague:20250530T090000
DTEND;TZID=Europe/Prague:20250530T130000
DTSTAMP:20260423T220905
CREATED:20230109T075438Z
LAST-MODIFIED:20250403T090457Z
UID:8771-1748595600-1748610000@apua.cz
SUMMARY:Co odlišuje dobře řízené projekty od těch ostatních?
DESCRIPTION:
URL:https://apua.cz/event/co-odlisuje-dobre-rizene-projekty-od-tech-ostatnich/
LOCATION:Online\, Online\, Online
END:VEVENT
BEGIN:VEVENT
DTSTART;TZID=Europe/Prague:20250529T090000
DTEND;TZID=Europe/Prague:20250529T140000
DTSTAMP:20260423T220905
CREATED:20250103T121132Z
LAST-MODIFIED:20250103T121219Z
UID:16469-1748509200-1748527200@apua.cz
SUMMARY:Vnitřní mzdový předpis a specifika odměňování zaměstnanců veřejné vysoké školy
DESCRIPTION:
URL:https://apua.cz/event/vnitrni-mzdovy-predpis-a-specifika-odmenovani-zamestnancu-verejne-vysoke-skoly/
LOCATION:Online\, Online\, Online
END:VEVENT
BEGIN:VEVENT
DTSTART;TZID=Europe/Prague:20250528T090000
DTEND;TZID=Europe/Prague:20250528T120000
DTSTAMP:20260423T220905
CREATED:20250411T092541Z
LAST-MODIFIED:20250411T093941Z
UID:17761-1748422800-1748433600@apua.cz
SUMMARY:Canva & AI: Rychlejší a chytřejší marketingová tvorba
DESCRIPTION:
URL:https://apua.cz/event/canva-ai-rychlejsi-a-chytrejsi-marketingova-tvorba/
LOCATION:Online\, Online\, Online
END:VEVENT
BEGIN:VEVENT
DTSTART;TZID=Europe/Prague:20250523T090000
DTEND;TZID=Europe/Prague:20250523T123000
DTSTAMP:20260423T220905
CREATED:20221220T164543Z
LAST-MODIFIED:20250203T083557Z
UID:8490-1747990800-1748003400@apua.cz
SUMMARY:Odpovědnost statutárních orgánů\, problematika zastupování\, podpisových práv a odpovědnosti na VŠ
DESCRIPTION:
URL:https://apua.cz/event/odpovednost-statutarnich-organu-problematika-zastupovani-podpisovych-prav-a-odpovednosti-na-vs/
LOCATION:Online\, Online\, Online
END:VEVENT
BEGIN:VEVENT
DTSTART;TZID=Europe/Prague:20250523T090000
DTEND;TZID=Europe/Prague:20250523T120000
DTSTAMP:20260423T220905
CREATED:20250401T081827Z
LAST-MODIFIED:20250401T081827Z
UID:17718-1747990800-1748001600@apua.cz
SUMMARY:Prevence plagiátorství a etické využití umělé inteligence
DESCRIPTION:
URL:https://apua.cz/event/prevence-plagiatorstvi-a-eticke-vyuziti-umele-inteligence-2/
LOCATION:Online\, Online\, Online
END:VEVENT
END:VCALENDAR