BEGIN:VCALENDAR
VERSION:2.0
PRODID:-//APUA - ECPv6.15.20//NONSGML v1.0//EN
CALSCALE:GREGORIAN
METHOD:PUBLISH
X-WR-CALNAME:APUA
X-ORIGINAL-URL:https://apua.cz
X-WR-CALDESC:Akce na APUA
REFRESH-INTERVAL;VALUE=DURATION:PT1H
X-Robots-Tag:noindex
X-PUBLISHED-TTL:PT1H
BEGIN:VTIMEZONE
TZID:Europe/Prague
BEGIN:DAYLIGHT
TZOFFSETFROM:+0100
TZOFFSETTO:+0200
TZNAME:CEST
DTSTART:20250330T010000
END:DAYLIGHT
BEGIN:STANDARD
TZOFFSETFROM:+0200
TZOFFSETTO:+0100
TZNAME:CET
DTSTART:20251026T010000
END:STANDARD
BEGIN:DAYLIGHT
TZOFFSETFROM:+0100
TZOFFSETTO:+0200
TZNAME:CEST
DTSTART:20260329T010000
END:DAYLIGHT
BEGIN:STANDARD
TZOFFSETFROM:+0200
TZOFFSETTO:+0100
TZNAME:CET
DTSTART:20261025T010000
END:STANDARD
BEGIN:DAYLIGHT
TZOFFSETFROM:+0100
TZOFFSETTO:+0200
TZNAME:CEST
DTSTART:20270328T010000
END:DAYLIGHT
BEGIN:STANDARD
TZOFFSETFROM:+0200
TZOFFSETTO:+0100
TZNAME:CET
DTSTART:20271031T010000
END:STANDARD
END:VTIMEZONE
BEGIN:VEVENT
DTSTART;TZID=Europe/Prague:20260317T100000
DTEND;TZID=Europe/Prague:20260318T140000
DTSTAMP:20260424T020744
CREATED:20220819T072048Z
LAST-MODIFIED:20260313T062539Z
UID:7014-1773741600-1773842400@apua.cz
SUMMARY:Setkání tajemníků vysokých škol
DESCRIPTION:
URL:https://apua.cz/event/setkani-tajemniku-vysokych-skol/
LOCATION:Luhačovice\, Wellness Hotel Pohoda\, Luhačovice\, Luhačovice
END:VEVENT
BEGIN:VEVENT
DTSTART;TZID=Europe/Prague:20260318T100000
DTEND;TZID=Europe/Prague:20260319T140000
DTSTAMP:20260424T020744
CREATED:20230206T105055Z
LAST-MODIFIED:20260219T123548Z
UID:6012-1773828000-1773928800@apua.cz
SUMMARY:Setkání investičních a provozních oddělení veřejných vysokých škol
DESCRIPTION:
URL:https://apua.cz/event/setkani-investicnich-a-provoznich-oddeleni-verejnych-vysokych-skol/
LOCATION:Zlín\, UTB ve Zlíně\, budova U2\, Mostní 5139\, 760 01 Zlín\, Zlín
END:VEVENT
BEGIN:VEVENT
DTSTART;TZID=Europe/Prague:20260319T090000
DTEND;TZID=Europe/Prague:20260319T120000
DTSTAMP:20260424T020744
CREATED:20251010T085726Z
LAST-MODIFIED:20251211T091041Z
UID:18916-1773910800-1773921600@apua.cz
SUMMARY:Nový zákon o výzkumu\, vývoji\, inovacích  a transferu znalostí (Nový zákon 328/2025 Sb.)
DESCRIPTION:
URL:https://apua.cz/event/novy-zakon-o-vyzkumu-vyvoji-inovacich-a-transferu-znalosti-novy-zakon-328-2025-sb/
LOCATION:Online\, Online\, Online
END:VEVENT
BEGIN:VEVENT
DTSTART;TZID=Europe/Prague:20260323T090000
DTEND;TZID=Europe/Prague:20260323T130000
DTSTAMP:20260424T020744
CREATED:20230131T081441Z
LAST-MODIFIED:20251211T090435Z
UID:9159-1774256400-1774270800@apua.cz
SUMMARY:Český pravopis v úřední praxi
DESCRIPTION:
URL:https://apua.cz/event/cesky-pravopis-jistoty-a-novinky/
LOCATION:Online\, Online\, Online
END:VEVENT
BEGIN:VEVENT
DTSTART;TZID=Europe/Prague:20260324T090000
DTEND;TZID=Europe/Prague:20260324T120000
DTSTAMP:20260424T020744
CREATED:20251031T121742Z
LAST-MODIFIED:20251210T110046Z
UID:19207-1774342800-1774353600@apua.cz
SUMMARY:Jednotné měsíční hlášení zaměstnavatele (JMHZ)
DESCRIPTION:
URL:https://apua.cz/event/jednotne-mesicni-hlaseni-zamestnavatele-jmhz/
LOCATION:Online\, Online\, Online
END:VEVENT
BEGIN:VEVENT
DTSTART;TZID=Europe/Prague:20260324T100000
DTEND;TZID=Europe/Prague:20260325T130000
DTSTAMP:20260424T020744
CREATED:20220823T071131Z
LAST-MODIFIED:20251202T101457Z
UID:7061-1774346400-1774443600@apua.cz
SUMMARY:Setkání interních auditorů veřejných vysokých škol
DESCRIPTION:
URL:https://apua.cz/event/setkani-internich-auditoru-vysokych-skol/
LOCATION:Praha – Hotel Troja\, Hotel Troja\, Trojská 2232/1\, Praha\, Praha\, 182 00
END:VEVENT
BEGIN:VEVENT
DTSTART;TZID=Europe/Prague:20260325T090000
DTEND;TZID=Europe/Prague:20260325T133000
DTSTAMP:20260424T020744
CREATED:20260216T120449Z
LAST-MODIFIED:20260218T105924Z
UID:20403-1774429200-1774445400@apua.cz
SUMMARY:Autorský zákon a licence
DESCRIPTION:
URL:https://apua.cz/event/autorsky-zakon-a-licence/
LOCATION:Online\, Online\, Online
END:VEVENT
BEGIN:VEVENT
DTSTART;TZID=Europe/Prague:20260327T090000
DTEND;TZID=Europe/Prague:20260327T130000
DTSTAMP:20260424T020744
CREATED:20260108T073828Z
LAST-MODIFIED:20260108T073828Z
UID:19727-1774602000-1774616400@apua.cz
SUMMARY:Konverze doručených listinných dokumentů do elektronické formy
DESCRIPTION:
URL:https://apua.cz/event/konverze-dorucenych-listinnych-dokumentu-do-elektronicke-formy/
LOCATION:Online\, Online\, Online
END:VEVENT
BEGIN:VEVENT
DTSTART;TZID=Europe/Prague:20260327T090000
DTEND;TZID=Europe/Prague:20260327T130000
DTSTAMP:20260424T020744
CREATED:20260113T104018Z
LAST-MODIFIED:20260113T104018Z
UID:19850-1774602000-1774616400@apua.cz
SUMMARY:Zaměstnávání cizinců vč. aktuálního vývoje legislativy a praxe v roce 2025 a 2026
DESCRIPTION:
URL:https://apua.cz/event/zamestnavani-cizincu-vc-aktualniho-vyvoje-legislativy-a-praxe-v-roce-2025-a-2026/
LOCATION:Online\, Online\, Online
END:VEVENT
BEGIN:VEVENT
DTSTART;TZID=Europe/Prague:20260330T090000
DTEND;TZID=Europe/Prague:20260330T130000
DTSTAMP:20260424T020744
CREATED:20260113T114024Z
LAST-MODIFIED:20260113T115301Z
UID:12884-1774861200-1774875600@apua.cz
SUMMARY:Diskriminace na pracovišti
DESCRIPTION:
URL:https://apua.cz/event/diskriminace-na-pracovisti/
LOCATION:Online\, Online\, Online
END:VEVENT
BEGIN:VEVENT
DTSTART;TZID=Europe/Prague:20260331T090000
DTEND;TZID=Europe/Prague:20260331T120000
DTSTAMP:20260424T020744
CREATED:20260205T082509Z
LAST-MODIFIED:20260217T103325Z
UID:20238-1774947600-1774958400@apua.cz
SUMMARY:Konec manuální práce v Excelu: Power Query a Power Pivot
DESCRIPTION:
URL:https://apua.cz/event/konec-manualni-prace-v-excelu-power-query-a-power-pivot/
LOCATION:Online\, Online\, Online
END:VEVENT
BEGIN:VEVENT
DTSTART;TZID=Europe/Prague:20260407T090000
DTEND;TZID=Europe/Prague:20260407T110000
DTSTAMP:20260424T020744
CREATED:20260309T141224Z
LAST-MODIFIED:20260309T143738Z
UID:20701-1775552400-1775559600@apua.cz
SUMMARY:Generativní AI pro studijní oddělení
DESCRIPTION:
URL:https://apua.cz/event/generativni-ai-pro-studijni-oddeleni/
LOCATION:Online\, Online\, Online
END:VEVENT
BEGIN:VEVENT
DTSTART;TZID=Europe/Prague:20260407T090000
DTEND;TZID=Europe/Prague:20260407T130000
DTSTAMP:20260424T020744
CREATED:20251215T073051Z
LAST-MODIFIED:20260331T071436Z
UID:19605-1775552400-1775566800@apua.cz
SUMMARY:Personální (HR) controlling
DESCRIPTION:
URL:https://apua.cz/event/personalni-hr-controlling/
LOCATION:Online\, Online\, Online
END:VEVENT
BEGIN:VEVENT
DTSTART;TZID=Europe/Prague:20260408T090000
DTEND;TZID=Europe/Prague:20260408T120000
DTSTAMP:20260424T020744
CREATED:20260210T105602Z
LAST-MODIFIED:20260211T085705Z
UID:20373-1775638800-1775649600@apua.cz
SUMMARY:Canva šablony pro sociální sítě
DESCRIPTION:
URL:https://apua.cz/event/canva/
LOCATION:Online\, Online\, Online
END:VEVENT
BEGIN:VEVENT
DTSTART;TZID=Europe/Prague:20260408T100000
DTEND;TZID=Europe/Prague:20260409T130000
DTSTAMP:20260424T020744
CREATED:20260120T110031Z
LAST-MODIFIED:20260209T131907Z
UID:13520-1775642400-1775739600@apua.cz
SUMMARY:Setkání oddělení veřejných zakázek vysokých škol
DESCRIPTION:
URL:https://apua.cz/event/setkani-oddeleni-verejnych-zakazek-vysokych-skol/
LOCATION:Olomouc – hotel Flora\, Olomouc - hotel Flora\, Krapkova 439/34\, Olomouc
END:VEVENT
BEGIN:VEVENT
DTSTART;TZID=Europe/Prague:20260410T090000
DTEND;TZID=Europe/Prague:20260410T130000
DTSTAMP:20260424T020744
CREATED:20260209T070945Z
LAST-MODIFIED:20260209T070945Z
UID:20296-1775811600-1775826000@apua.cz
SUMMARY:Odměňování na vysokých školách a nejčastější spory se zaměstnanci
DESCRIPTION:
URL:https://apua.cz/event/odmenovani-na-vysokych-skolach-a-nejcastejsi-spory-se-zamestnanci/
LOCATION:Online\, Online\, Online
END:VEVENT
BEGIN:VEVENT
DTSTART;TZID=Europe/Prague:20260413T090000
DTEND;TZID=Europe/Prague:20260413T120000
DTSTAMP:20260424T020744
CREATED:20260205T075154Z
LAST-MODIFIED:20260217T103419Z
UID:20222-1776070800-1776081600@apua.cz
SUMMARY:Budoucnost práce v Excelu: Spolupráce s AI nástroji v praxi
DESCRIPTION:
URL:https://apua.cz/event/budoucnost-prace-v-excelu-spoluprace-s-ai-nastroji-v-praxi/
LOCATION:Online\, Online\, Online
END:VEVENT
BEGIN:VEVENT
DTSTART;TZID=Europe/Prague:20260414T090000
DTEND;TZID=Europe/Prague:20260414T140000
DTSTAMP:20260424T020744
CREATED:20251103T091809Z
LAST-MODIFIED:20260331T071259Z
UID:19281-1776157200-1776175200@apua.cz
SUMMARY:Přesčasy ze všech úhlů pohledu
DESCRIPTION:
URL:https://apua.cz/event/prescasy-ze-vsech-uhlu-pohledu/
LOCATION:Online\, Online\, Online
END:VEVENT
BEGIN:VEVENT
DTSTART;TZID=Europe/Prague:20260414T100000
DTEND;TZID=Europe/Prague:20260415T133000
DTSTAMP:20260424T020744
CREATED:20230220T065726Z
LAST-MODIFIED:20260202T063629Z
UID:9598-1776160800-1776259800@apua.cz
SUMMARY:Setkání studijních oddělení vysokých škol
DESCRIPTION:
URL:https://apua.cz/event/setkani-studijnich-oddeleni-vysokych-skol/
LOCATION:Tábor\, LH Hotel Dvořák\, Hradební 3037\, 390 01 Tábor\, Tábor
END:VEVENT
BEGIN:VEVENT
DTSTART;TZID=Europe/Prague:20260415T090000
DTEND;TZID=Europe/Prague:20260415T120000
DTSTAMP:20260424T020744
CREATED:20260224T081348Z
LAST-MODIFIED:20260224T081949Z
UID:20488-1776243600-1776254400@apua.cz
SUMMARY:Otázky veřejné podpory VVI v prostředí VŠ
DESCRIPTION:
URL:https://apua.cz/event/otazky-verejne-podpory-vvi-v-prostredi-vs/
LOCATION:Online\, Online\, Online
END:VEVENT
BEGIN:VEVENT
DTSTART;TZID=Europe/Prague:20260415T090000
DTEND;TZID=Europe/Prague:20260415T120000
DTSTAMP:20260424T020744
CREATED:20260305T130951Z
LAST-MODIFIED:20260305T130951Z
UID:20604-1776243600-1776254400@apua.cz
SUMMARY:Microsoft 365 Copilot
DESCRIPTION:
URL:https://apua.cz/event/microsoft-365-copilot/
LOCATION:Online\, Online\, Online
END:VEVENT
BEGIN:VEVENT
DTSTART;TZID=Europe/Prague:20260416T090000
DTEND;TZID=Europe/Prague:20260418T130000
DTSTAMP:20260424T020744
CREATED:20220214T143757Z
LAST-MODIFIED:20260128T114128Z
UID:5371-1776330000-1776517200@apua.cz
SUMMARY:Excel – úroveň 1: Chybí mi pevný základ
DESCRIPTION:
URL:https://apua.cz/event/excel-uroven-1-chybi-mi-pevny-zaklad-2/
LOCATION:Online\, Online\, Online
END:VEVENT
BEGIN:VEVENT
DTSTART;TZID=Europe/Prague:20260420T090000
DTEND;TZID=Europe/Prague:20260420T110000
DTSTAMP:20260424T020744
CREATED:20260305T113113Z
LAST-MODIFIED:20260331T071329Z
UID:20583-1776675600-1776682800@apua.cz
SUMMARY:Generativní AI pro akademické prostředí
DESCRIPTION:
URL:https://apua.cz/event/generativni-ai/
LOCATION:Online\, Online\, Online
END:VEVENT
BEGIN:VEVENT
DTSTART;TZID=Europe/Prague:20260420T090000
DTEND;TZID=Europe/Prague:20260420T130000
DTSTAMP:20260424T020744
CREATED:20221208T080016Z
LAST-MODIFIED:20260410T075208Z
UID:5335-1776675600-1776690000@apua.cz
SUMMARY:Česká interpunkce
DESCRIPTION:
URL:https://apua.cz/event/ceska-interpunkce/
LOCATION:Online\, Online\, Online
END:VEVENT
BEGIN:VEVENT
DTSTART;TZID=Europe/Prague:20260421T100000
DTEND;TZID=Europe/Prague:20260422T130000
DTSTAMP:20260424T020744
CREATED:20230105T182648Z
LAST-MODIFIED:20260120T194250Z
UID:8702-1776765600-1776862800@apua.cz
SUMMARY:Setkání vedoucích ekonomů vysokých škol
DESCRIPTION:
URL:https://apua.cz/event/setkani-ekonomu-vysokych-skol-2/
LOCATION:Telč\, Telč\, Hotel Antoň\, Slavatovská 92\, Telč
END:VEVENT
BEGIN:VEVENT
DTSTART;TZID=Europe/Prague:20260422T100000
DTEND;TZID=Europe/Prague:20260423T120000
DTSTAMP:20260424T020744
CREATED:20260209T090004Z
LAST-MODIFIED:20260211T062709Z
UID:18372-1776852000-1776945600@apua.cz
SUMMARY:Setkání pracovníků BOZP a PO na VŠ: Problematika BOZP a PO z pohledu OIP a KHS při výkonu kontrolní činnosti
DESCRIPTION:
URL:https://apua.cz/event/setkani-pracovniku-bozp-a-po/
LOCATION:VŠB-Technická univerzita Ostrava\, VŠB-Technická univerzita Ostrava\, 17. listopadu 2172/15\, Ostrava
END:VEVENT
BEGIN:VEVENT
DTSTART;TZID=Europe/Prague:20260423T090000
DTEND;TZID=Europe/Prague:20260423T120000
DTSTAMP:20260424T020744
CREATED:20251124T065509Z
LAST-MODIFIED:20251124T071928Z
UID:19408-1776934800-1776945600@apua.cz
SUMMARY:Rozvržení pracovní doby akademických pracovníků a evidence pracovní doby
DESCRIPTION:
URL:https://apua.cz/event/rozvrzeni-pracovni-doby-akademickych-pracovniku-a-evidence-pracovni-doby/
LOCATION:Online\, Online\, Online
END:VEVENT
BEGIN:VEVENT
DTSTART;TZID=Europe/Prague:20260428T100000
DTEND;TZID=Europe/Prague:20260428T120000
DTSTAMP:20260424T020744
CREATED:20230822T134601Z
LAST-MODIFIED:20260306T062150Z
UID:11422-1777370400-1777377600@apua.cz
SUMMARY:Posuzování zahraničního středoškolského vzdělání v rámci přijímacího řízení
DESCRIPTION:
URL:https://apua.cz/event/word-pro-pokrocile/
LOCATION:Online\, Online\, Online
END:VEVENT
BEGIN:VEVENT
DTSTART;TZID=Europe/Prague:20260505T090000
DTEND;TZID=Europe/Prague:20260505T110000
DTSTAMP:20260424T020744
CREATED:20260305T114806Z
LAST-MODIFIED:20260331T065540Z
UID:20595-1777971600-1777978800@apua.cz
SUMMARY:Kognitivní omyly: proč lidé věří/nevěří vědě a jak tomu přizpůsobit komunikaci
DESCRIPTION:
URL:https://apua.cz/event/kognitivni-omyly/
LOCATION:Online\, Online\, Online
END:VEVENT
BEGIN:VEVENT
DTSTART;TZID=Europe/Prague:20260507T090000
DTEND;TZID=Europe/Prague:20260507T130000
DTSTAMP:20260424T020744
CREATED:20241010T081753Z
LAST-MODIFIED:20260128T100532Z
UID:15607-1778144400-1778158800@apua.cz
SUMMARY:Projektové a finanční řízení napříč projekty OP VVV a OP JAK
DESCRIPTION:
URL:https://apua.cz/event/projektove-a-financni-rizeni-napric-projekty-op-vvv-a-op-jak/
LOCATION:Online\, Online\, Online
END:VEVENT
END:VCALENDAR