BEGIN:VCALENDAR
VERSION:2.0
PRODID:-//APUA - ECPv6.15.20//NONSGML v1.0//EN
CALSCALE:GREGORIAN
METHOD:PUBLISH
X-WR-CALNAME:APUA
X-ORIGINAL-URL:https://apua.cz
X-WR-CALDESC:Akce na APUA
REFRESH-INTERVAL;VALUE=DURATION:PT1H
X-Robots-Tag:noindex
X-PUBLISHED-TTL:PT1H
BEGIN:VTIMEZONE
TZID:Europe/Prague
BEGIN:DAYLIGHT
TZOFFSETFROM:+0100
TZOFFSETTO:+0200
TZNAME:CEST
DTSTART:20240331T010000
END:DAYLIGHT
BEGIN:STANDARD
TZOFFSETFROM:+0200
TZOFFSETTO:+0100
TZNAME:CET
DTSTART:20241027T010000
END:STANDARD
BEGIN:DAYLIGHT
TZOFFSETFROM:+0100
TZOFFSETTO:+0200
TZNAME:CEST
DTSTART:20250330T010000
END:DAYLIGHT
BEGIN:STANDARD
TZOFFSETFROM:+0200
TZOFFSETTO:+0100
TZNAME:CET
DTSTART:20251026T010000
END:STANDARD
BEGIN:DAYLIGHT
TZOFFSETFROM:+0100
TZOFFSETTO:+0200
TZNAME:CEST
DTSTART:20260329T010000
END:DAYLIGHT
BEGIN:STANDARD
TZOFFSETFROM:+0200
TZOFFSETTO:+0100
TZNAME:CET
DTSTART:20261025T010000
END:STANDARD
BEGIN:DAYLIGHT
TZOFFSETFROM:+0100
TZOFFSETTO:+0200
TZNAME:CEST
DTSTART:20270328T010000
END:DAYLIGHT
BEGIN:STANDARD
TZOFFSETFROM:+0200
TZOFFSETTO:+0100
TZNAME:CET
DTSTART:20271031T010000
END:STANDARD
END:VTIMEZONE
BEGIN:VEVENT
DTSTART;TZID=Europe/Prague:20260304T090000
DTEND;TZID=Europe/Prague:20260304T120000
DTSTAMP:20260424T005022
CREATED:20251211T082851Z
LAST-MODIFIED:20260224T103628Z
UID:19524-1772614800-1772625600@apua.cz
SUMMARY:Pokročilá AI v kanceláři: od úkolů k automatizaci
DESCRIPTION:
URL:https://apua.cz/event/pokrocila-ai-v-kancelari-od-ukolu-k-automatizaci/
LOCATION:Online\, Online\, Online
END:VEVENT
BEGIN:VEVENT
DTSTART;TZID=Europe/Prague:20260303T090000
DTEND;TZID=Europe/Prague:20260303T120000
DTSTAMP:20260424T005022
CREATED:20251120T120141Z
LAST-MODIFIED:20260211T085741Z
UID:19386-1772528400-1772539200@apua.cz
SUMMARY:Instagram: Jak budovat značku
DESCRIPTION:
URL:https://apua.cz/event/instagram-pro-vzdelavaci-instituce/
LOCATION:Online\, Online\, Online
END:VEVENT
BEGIN:VEVENT
DTSTART;TZID=Europe/Prague:20260302T090000
DTEND;TZID=Europe/Prague:20260302T113000
DTSTAMP:20260424T005022
CREATED:20260113T100323Z
LAST-MODIFIED:20260113T100323Z
UID:19841-1772442000-1772451000@apua.cz
SUMMARY:Nelegální práce
DESCRIPTION:
URL:https://apua.cz/event/nelegalni-prace/
LOCATION:Online\, Online\, Online
END:VEVENT
BEGIN:VEVENT
DTSTART;TZID=Europe/Prague:20260227T090000
DTEND;TZID=Europe/Prague:20260227T110000
DTSTAMP:20260424T005022
CREATED:20260112T065255Z
LAST-MODIFIED:20260112T105334Z
UID:19818-1772182800-1772190000@apua.cz
SUMMARY:Plná moc vs. pověření na vysoké škole
DESCRIPTION:
URL:https://apua.cz/event/plna-moc-vs-povereni-na-vysoke-skole/
LOCATION:Online\, Online\, Online
END:VEVENT
BEGIN:VEVENT
DTSTART;TZID=Europe/Prague:20260226T090000
DTEND;TZID=Europe/Prague:20260226T130000
DTSTAMP:20260424T005022
CREATED:20251211T131724Z
LAST-MODIFIED:20251211T131724Z
UID:19568-1772096400-1772110800@apua.cz
SUMMARY:Jak zůstat produktivní a nenechat se převálcovat pracovním tempem
DESCRIPTION:
URL:https://apua.cz/event/jak-zustat-produktivni-a-nenechat-se-prevalcovat-pracovnim-tempem/
LOCATION:Online\, Online\, Online
END:VEVENT
BEGIN:VEVENT
DTSTART;TZID=Europe/Prague:20260225T090000
DTEND;TZID=Europe/Prague:20260225T140000
DTSTAMP:20260424T005022
CREATED:20251030T130917Z
LAST-MODIFIED:20251030T130917Z
UID:19179-1772010000-1772028000@apua.cz
SUMMARY:Povinnosti vedoucích zaměstnanců podle zákoníku práce
DESCRIPTION:
URL:https://apua.cz/event/povinnosti-vedoucich-zamestnancu-podle-zakoniku-prace/
LOCATION:Online\, Online\, Online
END:VEVENT
BEGIN:VEVENT
DTSTART;TZID=Europe/Prague:20260219T090000
DTEND;TZID=Europe/Prague:20260219T120000
DTSTAMP:20260424T005022
CREATED:20251103T075925Z
LAST-MODIFIED:20260209T072448Z
UID:19262-1771491600-1771502400@apua.cz
SUMMARY:Zaměstnanecké benefity pro rok 2026
DESCRIPTION:
URL:https://apua.cz/event/zamestnanecke-benefity-pro-rok-2026/
LOCATION:Online\, Online\, Online
END:VEVENT
BEGIN:VEVENT
DTSTART;TZID=Europe/Prague:20260213T090000
DTEND;TZID=Europe/Prague:20260213T140000
DTSTAMP:20260424T005022
CREATED:20251106T070909Z
LAST-MODIFIED:20251106T071750Z
UID:19310-1770973200-1770991200@apua.cz
SUMMARY:Zdaňování příjmů ze závislé činnosti 2025/2026 a roční zúčtování záloh a daňového zvýhodnění za rok 2025
DESCRIPTION:
URL:https://apua.cz/event/zdanovani-prijmu-ze-zavisle-cinnosti-2025-2026-a-rocni-zuctovani-zaloh-a-danoveho-zvyhodneni-za-rok-2025/
LOCATION:Online\, Online\, Online
END:VEVENT
BEGIN:VEVENT
DTSTART;TZID=Europe/Prague:20260210T090000
DTEND;TZID=Europe/Prague:20260210T120000
DTSTAMP:20260424T005022
CREATED:20251211T081117Z
LAST-MODIFIED:20251211T112203Z
UID:19514-1770714000-1770724800@apua.cz
SUMMARY:Praktická AI v kanceláři: from zero to hero
DESCRIPTION:
URL:https://apua.cz/event/prakticka-ai-v-kancelari-from-zero-to-hero/
LOCATION:Online\, Online\, Online
END:VEVENT
BEGIN:VEVENT
DTSTART;TZID=Europe/Prague:20260128T090000
DTEND;TZID=Europe/Prague:20260128T120000
DTSTAMP:20260424T005022
CREATED:20251211T075545Z
LAST-MODIFIED:20251211T075545Z
UID:19507-1769590800-1769601600@apua.cz
SUMMARY:Generace Z a motivace 3.0
DESCRIPTION:
URL:https://apua.cz/event/generace-z-a-motivace-3-0/
LOCATION:Online\, Online\, Online
END:VEVENT
BEGIN:VEVENT
DTSTART;TZID=Europe/Prague:20260126T090000
DTEND;TZID=Europe/Prague:20260126T120000
DTSTAMP:20260424T005022
CREATED:20251211T084848Z
LAST-MODIFIED:20260120T141154Z
UID:19531-1769418000-1769428800@apua.cz
SUMMARY:Zdanění přeshraničních příjmů (závislá činnost a ostatní) vč. vyplnění daňového přiznání
DESCRIPTION:
URL:https://apua.cz/event/zdaneni-preshranicnich-prijmu-zavisla-cinnost-a-ostatni-vc-vyplneni-danoveho-priznani/
LOCATION:Online\, Online\, Online
END:VEVENT
BEGIN:VEVENT
DTSTART;TZID=Europe/Prague:20260116T090000
DTEND;TZID=Europe/Prague:20260116T120000
DTSTAMP:20260424T005022
CREATED:20251211T073137Z
LAST-MODIFIED:20251211T073137Z
UID:19497-1768554000-1768564800@apua.cz
SUMMARY:Tvorba prezentací s AI
DESCRIPTION:
URL:https://apua.cz/event/tvorba-prezentaci-s-ai/
LOCATION:Online\, Online\, Online
END:VEVENT
BEGIN:VEVENT
DTSTART;TZID=Europe/Prague:20260107T090000
DTEND;TZID=Europe/Prague:20260107T110000
DTSTAMP:20260424T005022
CREATED:20230516T112414Z
LAST-MODIFIED:20251120T085250Z
UID:10289-1767776400-1767783600@apua.cz
SUMMARY:Poplatky spojené se studiem\, doručování uchazečům a studentům
DESCRIPTION:
URL:https://apua.cz/event/poplatky-za-studium/
LOCATION:Online\, Online\, Online
END:VEVENT
BEGIN:VEVENT
DTSTART;TZID=Europe/Prague:20251210T090000
DTEND;TZID=Europe/Prague:20251210T140000
DTSTAMP:20260424T005022
CREATED:20251022T094619Z
LAST-MODIFIED:20251022T111048Z
UID:19152-1765357200-1765375200@apua.cz
SUMMARY:Zákon o registru smluv
DESCRIPTION:
URL:https://apua.cz/event/zakon-o-registru-smluv-2/
LOCATION:Online\, Online\, Online
END:VEVENT
BEGIN:VEVENT
DTSTART;TZID=Europe/Prague:20251210T090000
DTEND;TZID=Europe/Prague:20251210T110000
DTSTAMP:20260424T005022
CREATED:20251120T085616Z
LAST-MODIFIED:20251120T085616Z
UID:19373-1765357200-1765364400@apua.cz
SUMMARY:Stipendia\, doktorský studijní příjem a doktorské stipendium
DESCRIPTION:
URL:https://apua.cz/event/stipendia-doktorsky-studijni-prijem-a-doktorske-stipendium/
LOCATION:Online\, Online\, Online
END:VEVENT
BEGIN:VEVENT
DTSTART;TZID=Europe/Prague:20251209T090000
DTEND;TZID=Europe/Prague:20251209T140000
DTSTAMP:20260424T005022
CREATED:20251020T080724Z
LAST-MODIFIED:20251020T082420Z
UID:19119-1765270800-1765288800@apua.cz
SUMMARY:Krizová komunikace
DESCRIPTION:
URL:https://apua.cz/event/krizova-komunikace/
LOCATION:Online\, Online\, Online
END:VEVENT
BEGIN:VEVENT
DTSTART;TZID=Europe/Prague:20251208T090000
DTEND;TZID=Europe/Prague:20251208T130000
DTSTAMP:20260424T005022
CREATED:20251010T060916Z
LAST-MODIFIED:20251010T060916Z
UID:18874-1765184400-1765198800@apua.cz
SUMMARY:Uzávěrkové operace a nejčastější chyby s nimi spojené v příkladech
DESCRIPTION:
URL:https://apua.cz/event/uzaverkove-operace-a-nejcastejsi-chyby-s-nimi-spojene-v-prikladech-2/
LOCATION:Online\, Online\, Online
END:VEVENT
BEGIN:VEVENT
DTSTART;TZID=Europe/Prague:20251208T090000
DTEND;TZID=Europe/Prague:20251208T110000
DTSTAMP:20260424T005022
CREATED:20251016T123132Z
LAST-MODIFIED:20251016T123132Z
UID:19085-1765184400-1765191600@apua.cz
SUMMARY:AI a multimédia
DESCRIPTION:
URL:https://apua.cz/event/ai-a-multimedia/
LOCATION:Online\, Online\, Online
END:VEVENT
BEGIN:VEVENT
DTSTART;TZID=Europe/Prague:20251203T090000
DTEND;TZID=Europe/Prague:20251203T120000
DTSTAMP:20260424T005022
CREATED:20250314T083802Z
LAST-MODIFIED:20251020T065220Z
UID:17608-1764752400-1764763200@apua.cz
SUMMARY:Hospodářská a nehospodářská činnost z hlediska VVŠ
DESCRIPTION:
URL:https://apua.cz/event/hospodarska-a-nehospodarska-cinnost-z-hlediska-vvs/
LOCATION:Online\, Online\, Online
END:VEVENT
BEGIN:VEVENT
DTSTART;TZID=Europe/Prague:20251124T090000
DTEND;TZID=Europe/Prague:20251124T110000
DTSTAMP:20260424T005022
CREATED:20251016T121111Z
LAST-MODIFIED:20251016T121126Z
UID:19074-1763974800-1763982000@apua.cz
SUMMARY:AI v akademickém výzkumu a závěrečných pracích
DESCRIPTION:
URL:https://apua.cz/event/ai-v-akademickem-vyzkumu-a-zaverecnych-pracich/
LOCATION:Online\, Online\, Online
END:VEVENT
BEGIN:VEVENT
DTSTART;TZID=Europe/Prague:20251121T100000
DTEND;TZID=Europe/Prague:20251121T130000
DTSTAMP:20260424T005022
CREATED:20251010T080852Z
LAST-MODIFIED:20251010T080852Z
UID:18904-1763719200-1763730000@apua.cz
SUMMARY:Formativní hodnocení  ve vysokoškolské výuce
DESCRIPTION:
URL:https://apua.cz/event/formativni-hodnoceni-ve-vysokoskolske-vyuce/
LOCATION:Online\, Online\, Online
END:VEVENT
BEGIN:VEVENT
DTSTART;TZID=Europe/Prague:20251120T090000
DTEND;TZID=Europe/Prague:20251120T120000
DTSTAMP:20260424T005022
CREATED:20251010T072933Z
LAST-MODIFIED:20251103T110202Z
UID:18884-1763629200-1763640000@apua.cz
SUMMARY:Jak využít ChatGPT a další nástroje AI v administrativě
DESCRIPTION:
URL:https://apua.cz/event/jak-vyuzit-chatgpt-a-dalsi-nastroje-ai-v-administrative/
LOCATION:Online\, Online\, Online
END:VEVENT
BEGIN:VEVENT
DTSTART;TZID=Europe/Prague:20251119T100000
DTEND;TZID=Europe/Prague:20251119T110000
DTSTAMP:20260424T005022
CREATED:20231018T074808Z
LAST-MODIFIED:20251007T105928Z
UID:11970-1763546400-1763550000@apua.cz
SUMMARY:Valná hromada Asociace pracovníků univerzit
DESCRIPTION:
URL:https://apua.cz/event/valna-hromada-asociace-pracovniku-univerzit/
LOCATION:Online\, Online\, Online
END:VEVENT
BEGIN:VEVENT
DTSTART;TZID=Europe/Prague:20251119T090000
DTEND;TZID=Europe/Prague:20251119T140000
DTSTAMP:20260424T005022
CREATED:20251010T060124Z
LAST-MODIFIED:20251010T060124Z
UID:18867-1763542800-1763560800@apua.cz
SUMMARY:Zařazování majetku nejen z dotací\, odpisy majetku\, fondy\, inventarizace v prostředí VVŠ
DESCRIPTION:
URL:https://apua.cz/event/zarazovani-majetku-nejen-z-dotaci-odpisy-majetku-fondy-inventarizace-v-prostredi-vvs/
LOCATION:Online\, Online\, Online
END:VEVENT
BEGIN:VEVENT
DTSTART;TZID=Europe/Prague:20251111T090000
DTEND;TZID=Europe/Prague:20251111T140000
DTSTAMP:20260424T005022
CREATED:20241202T210000Z
LAST-MODIFIED:20250716T081602Z
UID:16048-1762851600-1762869600@apua.cz
SUMMARY:Aktuality ze mzdové a personální oblasti pro rok 2026
DESCRIPTION:
URL:https://apua.cz/event/aktuality-ze-mzdove-a-personalni-oblasti-2025-2/
LOCATION:Online\, Online\, Online
END:VEVENT
BEGIN:VEVENT
DTSTART;TZID=Europe/Prague:20251110T090000
DTEND;TZID=Europe/Prague:20251110T120000
DTSTAMP:20260424T005022
CREATED:20230927T075603Z
LAST-MODIFIED:20250604T132356Z
UID:11076-1762765200-1762776000@apua.cz
SUMMARY:Cestovní náhrady v příkladech
DESCRIPTION:
URL:https://apua.cz/event/cestovni-nahrady-v-prikladech-2/
LOCATION:Online\, Online\, Online
END:VEVENT
BEGIN:VEVENT
DTSTART;TZID=Europe/Prague:20251107T090000
DTEND;TZID=Europe/Prague:20251107T120000
DTSTAMP:20260424T005022
CREATED:20240924T052308Z
LAST-MODIFIED:20251024T075612Z
UID:15380-1762506000-1762516800@apua.cz
SUMMARY:Umělá inteligence a její aplikace do účetní praxe včetně digitalizace účetních postupů
DESCRIPTION:
URL:https://apua.cz/event/vyuziti-umele-inteligence-v-ucetni-profesi/
LOCATION:Online\, Online\, Online
END:VEVENT
BEGIN:VEVENT
DTSTART;TZID=Europe/Prague:20251104T090000
DTEND;TZID=Europe/Prague:20251104T120000
DTSTAMP:20260424T005022
CREATED:20250611T082252Z
LAST-MODIFIED:20250904T072011Z
UID:18167-1762246800-1762257600@apua.cz
SUMMARY:Design thinking pro zlepšení služeb v prostředí VŠ
DESCRIPTION:
URL:https://apua.cz/event/design-thinking-pro-zlepseni-sluzeb/
LOCATION:Online\, Online\, Online
END:VEVENT
BEGIN:VEVENT
DTSTART;TZID=Europe/Prague:20251103T090000
DTEND;TZID=Europe/Prague:20251103T130000
DTSTAMP:20260424T005022
CREATED:20250603T115002Z
LAST-MODIFIED:20251022T080937Z
UID:18079-1762160400-1762174800@apua.cz
SUMMARY:Důležité aspekty odborných textů
DESCRIPTION:
URL:https://apua.cz/event/dulezite-aspekty-odbornych-textu/
LOCATION:Online\, Online\, Online
END:VEVENT
BEGIN:VEVENT
DTSTART;TZID=Europe/Prague:20251030T090000
DTEND;TZID=Europe/Prague:20251030T120000
DTSTAMP:20260424T005022
CREATED:20250904T075333Z
LAST-MODIFIED:20250904T075333Z
UID:18690-1761814800-1761825600@apua.cz
SUMMARY:Bezpečné pracoviště a akademické prostředí: Prevence a řešení šikany\, bossingu a obtěžování
DESCRIPTION:
URL:https://apua.cz/event/bezpecne-pracoviste-a-akademicke-prostredi/
LOCATION:Online\, Online\, Online
END:VEVENT
END:VCALENDAR