BEGIN:VCALENDAR
VERSION:2.0
PRODID:-//APUA - ECPv6.15.20//NONSGML v1.0//EN
CALSCALE:GREGORIAN
METHOD:PUBLISH
X-WR-CALNAME:APUA
X-ORIGINAL-URL:https://apua.cz
X-WR-CALDESC:Akce na APUA
REFRESH-INTERVAL;VALUE=DURATION:PT1H
X-Robots-Tag:noindex
X-PUBLISHED-TTL:PT1H
BEGIN:VTIMEZONE
TZID:Europe/Prague
BEGIN:DAYLIGHT
TZOFFSETFROM:+0100
TZOFFSETTO:+0200
TZNAME:CEST
DTSTART:20250330T010000
END:DAYLIGHT
BEGIN:STANDARD
TZOFFSETFROM:+0200
TZOFFSETTO:+0100
TZNAME:CET
DTSTART:20251026T010000
END:STANDARD
BEGIN:DAYLIGHT
TZOFFSETFROM:+0100
TZOFFSETTO:+0200
TZNAME:CEST
DTSTART:20260329T010000
END:DAYLIGHT
BEGIN:STANDARD
TZOFFSETFROM:+0200
TZOFFSETTO:+0100
TZNAME:CET
DTSTART:20261025T010000
END:STANDARD
BEGIN:DAYLIGHT
TZOFFSETFROM:+0100
TZOFFSETTO:+0200
TZNAME:CEST
DTSTART:20270328T010000
END:DAYLIGHT
BEGIN:STANDARD
TZOFFSETFROM:+0200
TZOFFSETTO:+0100
TZNAME:CET
DTSTART:20271031T010000
END:STANDARD
END:VTIMEZONE
BEGIN:VEVENT
DTSTART;TZID=Europe/Prague:20260601T090000
DTEND;TZID=Europe/Prague:20260601T120000
DTSTAMP:20260423T203756
CREATED:20230926T104148Z
LAST-MODIFIED:20260421T054710Z
UID:11684-1780304400-1780315200@apua.cz
SUMMARY:Účtování v cizí měně
DESCRIPTION:
URL:https://apua.cz/event/uctovani-v-cizi-mene/
LOCATION:Online\, Online\, Online
END:VEVENT
BEGIN:VEVENT
DTSTART;TZID=Europe/Prague:20260601T090000
DTEND;TZID=Europe/Prague:20260601T120000
DTSTAMP:20260423T203756
CREATED:20260402T064901Z
LAST-MODIFIED:20260402T064901Z
UID:20859-1780304400-1780315200@apua.cz
SUMMARY:Excel bez limitů: Kouzlíme s daty v Power BI
DESCRIPTION:
URL:https://apua.cz/event/excel-bez-limitu-kouzlime-s-daty-v-power-bi/
LOCATION:Online\, Online\, Online
END:VEVENT
BEGIN:VEVENT
DTSTART;TZID=Europe/Prague:20260602T090000
DTEND;TZID=Europe/Prague:20260602T120000
DTSTAMP:20260423T203756
CREATED:20230112T165211Z
LAST-MODIFIED:20260421T054806Z
UID:8914-1780390800-1780401600@apua.cz
SUMMARY:Základy účetnictví v prostředí VVŠ - 3. část - Náklady a výnosy
DESCRIPTION:
URL:https://apua.cz/event/zaklady-ucetnictvi-v-prostredi-vvs-3-cast-naklady-a-vynosy/
LOCATION:Online\, Online\, Online
END:VEVENT
BEGIN:VEVENT
DTSTART;TZID=Europe/Prague:20260604T090000
DTEND;TZID=Europe/Prague:20260604T130000
DTSTAMP:20260423T203756
CREATED:20260423T115518Z
LAST-MODIFIED:20260423T115518Z
UID:21010-1780563600-1780578000@apua.cz
SUMMARY:Účetní a daňové jednohubky
DESCRIPTION:
URL:https://apua.cz/event/ucetni-a-danove-jednohubky/
LOCATION:Online\, Online\, Online
END:VEVENT
BEGIN:VEVENT
DTSTART;TZID=Europe/Prague:20260605T090000
DTEND;TZID=Europe/Prague:20260605T130000
DTSTAMP:20260423T203756
CREATED:20230515T115942Z
LAST-MODIFIED:20260305T125753Z
UID:10267-1780650000-1780664400@apua.cz
SUMMARY:Word - užitečné nástroje a funkce
DESCRIPTION:
URL:https://apua.cz/event/word-uzitecne-nastroje-a-funkce/
LOCATION:Online\, Online\, Online
END:VEVENT
BEGIN:VEVENT
DTSTART;TZID=Europe/Prague:20260608T090000
DTEND;TZID=Europe/Prague:20260608T140000
DTSTAMP:20260423T203756
CREATED:20250929T070937Z
LAST-MODIFIED:20260218T105804Z
UID:18812-1780909200-1780927200@apua.cz
SUMMARY:TRÉNINK ASERTIVNÍCH TECHNIK
DESCRIPTION:
URL:https://apua.cz/event/trenink-asertivnich-technik/
LOCATION:Praha – Konferenční centrum Sázava\, Konferenční centrum Sázava\, Chemická 952\, Praha\, Praha
END:VEVENT
BEGIN:VEVENT
DTSTART;TZID=Europe/Prague:20260609T090000
DTEND;TZID=Europe/Prague:20260609T130000
DTSTAMP:20260423T203756
CREATED:20210914T135755Z
LAST-MODIFIED:20260330T071924Z
UID:3019-1780995600-1781010000@apua.cz
SUMMARY:Úřední dopis: od záměru k úpravě
DESCRIPTION:
URL:https://apua.cz/event/vzor-seminar/
LOCATION:Online\, Online\, Online
END:VEVENT
BEGIN:VEVENT
DTSTART;TZID=Europe/Prague:20260610T090000
DTEND;TZID=Europe/Prague:20260610T120000
DTSTAMP:20260423T203756
CREATED:20250314T090641Z
LAST-MODIFIED:20260224T112327Z
UID:17630-1781082000-1781092800@apua.cz
SUMMARY:Zakládání spin-off společností\, ochrana investic a řešení střetu zájmů
DESCRIPTION:
URL:https://apua.cz/event/zakladani-spin-off-spolecnosti-ochrana-investic-a-reseni-stretu-zajmu/
LOCATION:Online\, Online\, Online
END:VEVENT
BEGIN:VEVENT
DTSTART;TZID=Europe/Prague:20260612T090000
DTEND;TZID=Europe/Prague:20260612T130000
DTSTAMP:20260423T203756
CREATED:20240405T072824Z
LAST-MODIFIED:20260206T094335Z
UID:14026-1781254800-1781269200@apua.cz
SUMMARY:Excel – užitečné nástroje a funkce 1
DESCRIPTION:
URL:https://apua.cz/event/excel-uzitecne-nastroje-a-funkce-1/
LOCATION:Online\, Online\, Online
END:VEVENT
BEGIN:VEVENT
DTSTART;TZID=Europe/Prague:20260618T090000
DTEND;TZID=Europe/Prague:20260618T110000
DTSTAMP:20260423T203756
CREATED:20250303T094835Z
LAST-MODIFIED:20260206T101024Z
UID:16433-1781773200-1781780400@apua.cz
SUMMARY:Výběrová řízení a obsazování pozic akademických a neakademických pracovníků vysoké školy
DESCRIPTION:
URL:https://apua.cz/event/vyberova-rizeni-a-obsazovani-pozic-akademickych-a-neakademickych-pracovniku-vysoke-skoly/
LOCATION:Online\, Online\, Online
END:VEVENT
END:VCALENDAR