BEGIN:VCALENDAR
VERSION:2.0
PRODID:-//APUA - ECPv6.15.20//NONSGML v1.0//EN
CALSCALE:GREGORIAN
METHOD:PUBLISH
X-ORIGINAL-URL:https://apua.cz
X-WR-CALDESC:Akce na APUA
REFRESH-INTERVAL;VALUE=DURATION:PT1H
X-Robots-Tag:noindex
X-PUBLISHED-TTL:PT1H
BEGIN:VTIMEZONE
TZID:Europe/Prague
BEGIN:DAYLIGHT
TZOFFSETFROM:+0100
TZOFFSETTO:+0200
TZNAME:CEST
DTSTART:20250330T010000
END:DAYLIGHT
BEGIN:STANDARD
TZOFFSETFROM:+0200
TZOFFSETTO:+0100
TZNAME:CET
DTSTART:20251026T010000
END:STANDARD
BEGIN:DAYLIGHT
TZOFFSETFROM:+0100
TZOFFSETTO:+0200
TZNAME:CEST
DTSTART:20260329T010000
END:DAYLIGHT
BEGIN:STANDARD
TZOFFSETFROM:+0200
TZOFFSETTO:+0100
TZNAME:CET
DTSTART:20261025T010000
END:STANDARD
BEGIN:DAYLIGHT
TZOFFSETFROM:+0100
TZOFFSETTO:+0200
TZNAME:CEST
DTSTART:20270328T010000
END:DAYLIGHT
BEGIN:STANDARD
TZOFFSETFROM:+0200
TZOFFSETTO:+0100
TZNAME:CET
DTSTART:20271031T010000
END:STANDARD
END:VTIMEZONE
BEGIN:VEVENT
DTSTART;TZID=Europe/Prague:20260107T090000
DTEND;TZID=Europe/Prague:20260107T110000
DTSTAMP:20260423T232441
CREATED:20230516T112414Z
LAST-MODIFIED:20251120T085250Z
UID:10289-1767776400-1767783600@apua.cz
SUMMARY:Poplatky spojené se studiem\, doručování uchazečům a studentům
DESCRIPTION:
URL:https://apua.cz/event/poplatky-za-studium/
LOCATION:Online\, Online\, Online
END:VEVENT
BEGIN:VEVENT
DTSTART;TZID=Europe/Prague:20260116T090000
DTEND;TZID=Europe/Prague:20260116T120000
DTSTAMP:20260423T232441
CREATED:20251211T073137Z
LAST-MODIFIED:20251211T073137Z
UID:19497-1768554000-1768564800@apua.cz
SUMMARY:Tvorba prezentací s AI
DESCRIPTION:
URL:https://apua.cz/event/tvorba-prezentaci-s-ai/
LOCATION:Online\, Online\, Online
END:VEVENT
BEGIN:VEVENT
DTSTART;TZID=Europe/Prague:20260126T090000
DTEND;TZID=Europe/Prague:20260126T120000
DTSTAMP:20260423T232441
CREATED:20251211T084848Z
LAST-MODIFIED:20260120T141154Z
UID:19531-1769418000-1769428800@apua.cz
SUMMARY:Zdanění přeshraničních příjmů (závislá činnost a ostatní) vč. vyplnění daňového přiznání
DESCRIPTION:
URL:https://apua.cz/event/zdaneni-preshranicnich-prijmu-zavisla-cinnost-a-ostatni-vc-vyplneni-danoveho-priznani/
LOCATION:Online\, Online\, Online
END:VEVENT
BEGIN:VEVENT
DTSTART;TZID=Europe/Prague:20260128T090000
DTEND;TZID=Europe/Prague:20260128T120000
DTSTAMP:20260423T232441
CREATED:20251211T075545Z
LAST-MODIFIED:20251211T075545Z
UID:19507-1769590800-1769601600@apua.cz
SUMMARY:Generace Z a motivace 3.0
DESCRIPTION:
URL:https://apua.cz/event/generace-z-a-motivace-3-0/
LOCATION:Online\, Online\, Online
END:VEVENT
END:VCALENDAR