BEGIN:VCALENDAR
VERSION:2.0
PRODID:-//APUA - ECPv6.15.20//NONSGML v1.0//EN
CALSCALE:GREGORIAN
METHOD:PUBLISH
X-WR-CALNAME:APUA
X-ORIGINAL-URL:https://apua.cz
X-WR-CALDESC:Akce na APUA
REFRESH-INTERVAL;VALUE=DURATION:PT1H
X-Robots-Tag:noindex
X-PUBLISHED-TTL:PT1H
BEGIN:VTIMEZONE
TZID:Europe/Prague
BEGIN:DAYLIGHT
TZOFFSETFROM:+0100
TZOFFSETTO:+0200
TZNAME:CEST
DTSTART:20240331T010000
END:DAYLIGHT
BEGIN:STANDARD
TZOFFSETFROM:+0200
TZOFFSETTO:+0100
TZNAME:CET
DTSTART:20241027T010000
END:STANDARD
BEGIN:DAYLIGHT
TZOFFSETFROM:+0100
TZOFFSETTO:+0200
TZNAME:CEST
DTSTART:20250330T010000
END:DAYLIGHT
BEGIN:STANDARD
TZOFFSETFROM:+0200
TZOFFSETTO:+0100
TZNAME:CET
DTSTART:20251026T010000
END:STANDARD
BEGIN:DAYLIGHT
TZOFFSETFROM:+0100
TZOFFSETTO:+0200
TZNAME:CEST
DTSTART:20260329T010000
END:DAYLIGHT
BEGIN:STANDARD
TZOFFSETFROM:+0200
TZOFFSETTO:+0100
TZNAME:CET
DTSTART:20261025T010000
END:STANDARD
END:VTIMEZONE
BEGIN:VEVENT
DTSTART;TZID=Europe/Prague:20250218T090000
DTEND;TZID=Europe/Prague:20250218T130000
DTSTAMP:20260424T125506
CREATED:20230607T102248Z
LAST-MODIFIED:20241119T130506Z
UID:10564-1739869200-1739883600@apua.cz
SUMMARY:Digitalizace HR dokumentů po novele
DESCRIPTION:
URL:https://apua.cz/event/novy-zakon-na-ochranu-oznamovatelu/
LOCATION:Online\, Online\, Online
END:VEVENT
BEGIN:VEVENT
DTSTART;TZID=Europe/Prague:20250220T090000
DTEND;TZID=Europe/Prague:20250220T140000
DTSTAMP:20260424T125506
CREATED:20241209T104919Z
LAST-MODIFIED:20250204T114751Z
UID:16306-1740042000-1740060000@apua.cz
SUMMARY:Leadreship v akademickém prostředí
DESCRIPTION:
URL:https://apua.cz/event/leadreship-v-akademickem-prostredi/
LOCATION:Online\, Online\, Online
END:VEVENT
BEGIN:VEVENT
DTSTART;TZID=Europe/Prague:20250226T090000
DTEND;TZID=Europe/Prague:20250226T130000
DTSTAMP:20260424T125506
CREATED:20250113T080016Z
LAST-MODIFIED:20250113T110905Z
UID:12563-1740560400-1740574800@apua.cz
SUMMARY:Nábor studentů v roce 2025 – kampaně na Facebooku a Instagramu
DESCRIPTION:
URL:https://apua.cz/event/nabor-studentu-v-roce-2025-kampane-na-facebooku-a-instagramu/
LOCATION:Online\, Online\, Online
END:VEVENT
BEGIN:VEVENT
DTSTART;TZID=Europe/Prague:20250228T090000
DTEND;TZID=Europe/Prague:20250228T130000
DTSTAMP:20260424T125506
CREATED:20241202T212026Z
LAST-MODIFIED:20241203T070903Z
UID:16059-1740733200-1740747600@apua.cz
SUMMARY:Srážky ze mzdy\, exekuce\, insolvence 2024/2025
DESCRIPTION:
URL:https://apua.cz/event/srazky-ze-mzdy-exekuce-insolvence-2024-2025/
LOCATION:Online\, Online\, Online
END:VEVENT
END:VCALENDAR