BEGIN:VCALENDAR
VERSION:2.0
PRODID:-//APUA - ECPv6.15.20//NONSGML v1.0//EN
CALSCALE:GREGORIAN
METHOD:PUBLISH
X-WR-CALNAME:APUA
X-ORIGINAL-URL:https://apua.cz
X-WR-CALDESC:Akce na APUA
REFRESH-INTERVAL;VALUE=DURATION:PT1H
X-Robots-Tag:noindex
X-PUBLISHED-TTL:PT1H
BEGIN:VTIMEZONE
TZID:Europe/Prague
BEGIN:DAYLIGHT
TZOFFSETFROM:+0100
TZOFFSETTO:+0200
TZNAME:CEST
DTSTART:20240331T010000
END:DAYLIGHT
BEGIN:STANDARD
TZOFFSETFROM:+0200
TZOFFSETTO:+0100
TZNAME:CET
DTSTART:20241027T010000
END:STANDARD
BEGIN:DAYLIGHT
TZOFFSETFROM:+0100
TZOFFSETTO:+0200
TZNAME:CEST
DTSTART:20250330T010000
END:DAYLIGHT
BEGIN:STANDARD
TZOFFSETFROM:+0200
TZOFFSETTO:+0100
TZNAME:CET
DTSTART:20251026T010000
END:STANDARD
BEGIN:DAYLIGHT
TZOFFSETFROM:+0100
TZOFFSETTO:+0200
TZNAME:CEST
DTSTART:20260329T010000
END:DAYLIGHT
BEGIN:STANDARD
TZOFFSETFROM:+0200
TZOFFSETTO:+0100
TZNAME:CET
DTSTART:20261025T010000
END:STANDARD
END:VTIMEZONE
BEGIN:VEVENT
DTSTART;TZID=Europe/Prague:20250121T090000
DTEND;TZID=Europe/Prague:20250121T130000
DTSTAMP:20260424T153622
CREATED:20241217T084754Z
LAST-MODIFIED:20250113T091314Z
UID:5490-1737450000-1737464400@apua.cz
SUMMARY:Pracovnělékařské služby v prostředí VŠ
DESCRIPTION:
URL:https://apua.cz/event/pracovnelekarske-sluzby-v-prostredi-vs/
LOCATION:Online\, Online\, Online
END:VEVENT
BEGIN:VEVENT
DTSTART;TZID=Europe/Prague:20250123T090000
DTEND;TZID=Europe/Prague:20250123T110000
DTSTAMP:20260424T153622
CREATED:20241209T090941Z
LAST-MODIFIED:20241209T090941Z
UID:16298-1737622800-1737630000@apua.cz
SUMMARY:Praktické zkušenosti z implementace Open Science na univerzitě
DESCRIPTION:
URL:https://apua.cz/event/prakticke-zkusenosti-z-implementace-open-science-na-univerzite/
LOCATION:Online\, Online\, Online
END:VEVENT
BEGIN:VEVENT
DTSTART;TZID=Europe/Prague:20250128T090000
DTEND;TZID=Europe/Prague:20250128T120000
DTSTAMP:20260424T153622
CREATED:20241202T135339Z
LAST-MODIFIED:20241202T214538Z
UID:16034-1738054800-1738065600@apua.cz
SUMMARY:Cestovní náhrady v příkladech
DESCRIPTION:
URL:https://apua.cz/event/cestovni-nahrady-v-prikladech/
LOCATION:Online\, Online\, Online
END:VEVENT
BEGIN:VEVENT
DTSTART;TZID=Europe/Prague:20250130T090000
DTEND;TZID=Europe/Prague:20250130T123000
DTSTAMP:20260424T153622
CREATED:20240131T080049Z
LAST-MODIFIED:20250129T104528Z
UID:8536-1738227600-1738240200@apua.cz
SUMMARY:Pobyt cizinců – kulatý stůl\, řešení praktických otázek pracovníků univerzit
DESCRIPTION:
URL:https://apua.cz/event/pobyt-cizincu-kulaty-stul-reseni-praktickych-otazek-pracovniku-univerzit/
LOCATION:Online\, Online\, Online
END:VEVENT
END:VCALENDAR