BEGIN:VCALENDAR
VERSION:2.0
PRODID:-//APUA - ECPv6.15.20//NONSGML v1.0//EN
CALSCALE:GREGORIAN
METHOD:PUBLISH
X-WR-CALNAME:APUA
X-ORIGINAL-URL:https://apua.cz
X-WR-CALDESC:Akce na APUA
REFRESH-INTERVAL;VALUE=DURATION:PT1H
X-Robots-Tag:noindex
X-PUBLISHED-TTL:PT1H
BEGIN:VTIMEZONE
TZID:Europe/Prague
BEGIN:DAYLIGHT
TZOFFSETFROM:+0100
TZOFFSETTO:+0200
TZNAME:CEST
DTSTART:20230326T010000
END:DAYLIGHT
BEGIN:STANDARD
TZOFFSETFROM:+0200
TZOFFSETTO:+0100
TZNAME:CET
DTSTART:20231029T010000
END:STANDARD
BEGIN:DAYLIGHT
TZOFFSETFROM:+0100
TZOFFSETTO:+0200
TZNAME:CEST
DTSTART:20240331T010000
END:DAYLIGHT
BEGIN:STANDARD
TZOFFSETFROM:+0200
TZOFFSETTO:+0100
TZNAME:CET
DTSTART:20241027T010000
END:STANDARD
BEGIN:DAYLIGHT
TZOFFSETFROM:+0100
TZOFFSETTO:+0200
TZNAME:CEST
DTSTART:20250330T010000
END:DAYLIGHT
BEGIN:STANDARD
TZOFFSETFROM:+0200
TZOFFSETTO:+0100
TZNAME:CET
DTSTART:20251026T010000
END:STANDARD
END:VTIMEZONE
BEGIN:VEVENT
DTSTART;TZID=Europe/Prague:20241209T090000
DTEND;TZID=Europe/Prague:20241209T130000
DTSTAMP:20260424T172102
CREATED:20241010T085127Z
LAST-MODIFIED:20241010T085127Z
UID:15652-1733734800-1733749200@apua.cz
SUMMARY:Na co si musí dát zaměstnavatel zejména pozor v době permanentních změn pracovněprávních předpisů – i s přihlédnutím k očekávaným změnám od 1.1.2025
DESCRIPTION:
URL:https://apua.cz/event/na-co-si-musi-dat-zamestnavatel-zejmena-pozor-v-dobe-permanentnich-zmen-pracovnepravnich-predpisu-i-s-prihlednutim-k-ocekavanym-zmenam-od-1-1-2025/
LOCATION:Online\, Online\, Online
END:VEVENT
BEGIN:VEVENT
DTSTART;TZID=Europe/Prague:20241213T083000
DTEND;TZID=Europe/Prague:20241213T140000
DTSTAMP:20260424T172102
CREATED:20241010T112041Z
LAST-MODIFIED:20241203T075403Z
UID:15692-1734078600-1734098400@apua.cz
SUMMARY:Provoz vyhrazených technických zařízení pro techniky BOZP na vysokých školách
DESCRIPTION:
URL:https://apua.cz/event/provoz-vyhrazenych-technickych-zarizeni-pro-techniky-bozp-na-vysokych-skolach/
LOCATION:Online\, Online\, Online
END:VEVENT
BEGIN:VEVENT
DTSTART;TZID=Europe/Prague:20241213T090000
DTEND;TZID=Europe/Prague:20241213T130000
DTSTAMP:20260424T172102
CREATED:20240918T104127Z
LAST-MODIFIED:20241121T103322Z
UID:15301-1734080400-1734094800@apua.cz
SUMMARY:Pokročilé techniky projektového řízení pro vysoké školy
DESCRIPTION:
URL:https://apua.cz/event/pokrocile-techniky-projektoveho-rizeni-pro-vysoke-skoly/
LOCATION:Online\, Online\, Online
END:VEVENT
END:VCALENDAR