BEGIN:VCALENDAR
VERSION:2.0
PRODID:-//APUA - ECPv6.15.20//NONSGML v1.0//EN
CALSCALE:GREGORIAN
METHOD:PUBLISH
X-WR-CALNAME:APUA
X-ORIGINAL-URL:https://apua.cz
X-WR-CALDESC:Akce na APUA
REFRESH-INTERVAL;VALUE=DURATION:PT1H
X-Robots-Tag:noindex
X-PUBLISHED-TTL:PT1H
BEGIN:VTIMEZONE
TZID:Europe/Prague
BEGIN:DAYLIGHT
TZOFFSETFROM:+0100
TZOFFSETTO:+0200
TZNAME:CEST
DTSTART:20230326T010000
END:DAYLIGHT
BEGIN:STANDARD
TZOFFSETFROM:+0200
TZOFFSETTO:+0100
TZNAME:CET
DTSTART:20231029T010000
END:STANDARD
BEGIN:DAYLIGHT
TZOFFSETFROM:+0100
TZOFFSETTO:+0200
TZNAME:CEST
DTSTART:20240331T010000
END:DAYLIGHT
BEGIN:STANDARD
TZOFFSETFROM:+0200
TZOFFSETTO:+0100
TZNAME:CET
DTSTART:20241027T010000
END:STANDARD
BEGIN:DAYLIGHT
TZOFFSETFROM:+0100
TZOFFSETTO:+0200
TZNAME:CEST
DTSTART:20250330T010000
END:DAYLIGHT
BEGIN:STANDARD
TZOFFSETFROM:+0200
TZOFFSETTO:+0100
TZNAME:CET
DTSTART:20251026T010000
END:STANDARD
END:VTIMEZONE
BEGIN:VEVENT
DTSTART;TZID=Europe/Prague:20240301T090000
DTEND;TZID=Europe/Prague:20240301T130000
DTSTAMP:20260425T045542
CREATED:20240110T150503Z
LAST-MODIFIED:20240221T085008Z
UID:12941-1709283600-1709298000@apua.cz
SUMMARY:Nový zákon o účetnictví\, Daň z příjmu právnických osob
DESCRIPTION:
URL:https://apua.cz/event/novy-zakon-o-ucetnictvi-dan-z-prijmu-fyzickych-osob/
LOCATION:Online\, Online\, Online
END:VEVENT
BEGIN:VEVENT
DTSTART;TZID=Europe/Prague:20240312T090000
DTEND;TZID=Europe/Prague:20240312T130000
DTSTAMP:20260425T045542
CREATED:20240206T091258Z
LAST-MODIFIED:20240206T093521Z
UID:13149-1710234000-1710248400@apua.cz
SUMMARY:Vnitřní předpisy vysokých škol
DESCRIPTION:
URL:https://apua.cz/event/vnitrni-predpisy-vysokych-skol/
LOCATION:Online\, Online\, Online
END:VEVENT
BEGIN:VEVENT
DTSTART;TZID=Europe/Prague:20240314T090000
DTEND;TZID=Europe/Prague:20240314T140000
DTSTAMP:20260425T045542
CREATED:20231020T081348Z
LAST-MODIFIED:20231020T082902Z
UID:12005-1710406800-1710424800@apua.cz
SUMMARY:Jak na organizační kulturu
DESCRIPTION:
URL:https://apua.cz/event/jak-na-organizacni-kulturu/
LOCATION:Online\, Online\, Online
END:VEVENT
BEGIN:VEVENT
DTSTART;TZID=Europe/Prague:20240322T090000
DTEND;TZID=Europe/Prague:20240322T140000
DTSTAMP:20260425T045542
CREATED:20230317T195108Z
LAST-MODIFIED:20240110T204839Z
UID:9872-1711098000-1711116000@apua.cz
SUMMARY:Offboarding - výstupy zaměstnanců
DESCRIPTION:
URL:https://apua.cz/event/offboarding-vystupy-zamestnancu/
LOCATION:Online\, Online\, Online
END:VEVENT
BEGIN:VEVENT
DTSTART;TZID=Europe/Prague:20240325T090000
DTEND;TZID=Europe/Prague:20240325T130000
DTSTAMP:20260425T045542
CREATED:20240109T095217Z
LAST-MODIFIED:20240109T095217Z
UID:12805-1711357200-1711371600@apua.cz
SUMMARY:Skončení pracovního poměru s důrazem na odvolání a vzdání se vedoucího místa
DESCRIPTION:
URL:https://apua.cz/event/skonceni-pracovniho-pomeru-s-durazem-na-odvolani-a-vzdani-se-vedouciho-mista/
LOCATION:Online\, Online\, Online
END:VEVENT
BEGIN:VEVENT
DTSTART;TZID=Europe/Prague:20240327T090000
DTEND;TZID=Europe/Prague:20240327T140000
DTSTAMP:20260425T045542
CREATED:20231016T141400Z
LAST-MODIFIED:20231207T150519Z
UID:11933-1711530000-1711548000@apua.cz
SUMMARY:Intrakomunitární obchod se zbožím\, obchod se třetími zeměmi\, služby
DESCRIPTION:
URL:https://apua.cz/event/intrakomunitarni-obchod-se-zbozim-obchod-se-tretimi-zememi-sluzby/
LOCATION:Online\, Online\, Online
END:VEVENT
BEGIN:VEVENT
DTSTART;TZID=Europe/Prague:20240328T090000
DTEND;TZID=Europe/Prague:20240328T130000
DTSTAMP:20260425T045542
CREATED:20240229T120206Z
LAST-MODIFIED:20240229T120206Z
UID:13606-1711616400-1711630800@apua.cz
SUMMARY:Zdravotní pojištění zahraničních vědců v ČR a jejich rodinných příslušníků\, sociální pojištění\, změny v legislativě
DESCRIPTION:
URL:https://apua.cz/event/zdravotni-pojisteni-zahranicnich-vedcu-v-cr-a-jejich-rodinnych-prislusniku-socialni-pojisteni-zmeny-v-legislative/
LOCATION:Online\, Online\, Online
END:VEVENT
END:VCALENDAR