BEGIN:VCALENDAR
VERSION:2.0
PRODID:-//APUA - ECPv6.15.20//NONSGML v1.0//EN
CALSCALE:GREGORIAN
METHOD:PUBLISH
X-ORIGINAL-URL:https://apua.cz
X-WR-CALDESC:Akce na APUA
REFRESH-INTERVAL;VALUE=DURATION:PT1H
X-Robots-Tag:noindex
X-PUBLISHED-TTL:PT1H
BEGIN:VTIMEZONE
TZID:Europe/Prague
BEGIN:DAYLIGHT
TZOFFSETFROM:+0100
TZOFFSETTO:+0200
TZNAME:CEST
DTSTART:20230326T010000
END:DAYLIGHT
BEGIN:STANDARD
TZOFFSETFROM:+0200
TZOFFSETTO:+0100
TZNAME:CET
DTSTART:20231029T010000
END:STANDARD
BEGIN:DAYLIGHT
TZOFFSETFROM:+0100
TZOFFSETTO:+0200
TZNAME:CEST
DTSTART:20240331T010000
END:DAYLIGHT
BEGIN:STANDARD
TZOFFSETFROM:+0200
TZOFFSETTO:+0100
TZNAME:CET
DTSTART:20241027T010000
END:STANDARD
BEGIN:DAYLIGHT
TZOFFSETFROM:+0100
TZOFFSETTO:+0200
TZNAME:CEST
DTSTART:20250330T010000
END:DAYLIGHT
BEGIN:STANDARD
TZOFFSETFROM:+0200
TZOFFSETTO:+0100
TZNAME:CET
DTSTART:20251026T010000
END:STANDARD
END:VTIMEZONE
BEGIN:VEVENT
DTSTART;TZID=Europe/Prague:20240216T100000
DTEND;TZID=Europe/Prague:20240216T120000
DTSTAMP:20260425T060931
CREATED:20240119T093833Z
LAST-MODIFIED:20240119T093833Z
UID:13006-1708077600-1708084800@apua.cz
SUMMARY:Umělá inteligence jako kopilot pedagoga
DESCRIPTION:
URL:https://apua.cz/event/umela-inteligence-jako-kopilot-pedagoga/
LOCATION:Online\, Online\, Online
END:VEVENT
BEGIN:VEVENT
DTSTART;TZID=Europe/Prague:20240220T090000
DTEND;TZID=Europe/Prague:20240220T153000
DTSTAMP:20260425T060931
CREATED:20231024T115150Z
LAST-MODIFIED:20231024T122129Z
UID:12092-1708419600-1708443000@apua.cz
SUMMARY:ROZHOVORY V PRAXI MANAŽERA - účinná komunikace manažera se svým týmem
DESCRIPTION:
URL:https://apua.cz/event/rozhovory-v-praxi-manazera-ucinna-komunikace-manazera-se-svym-tymem-2/
LOCATION:Praha – Konferenční centrum Sázava\, Konferenční centrum Sázava\, Chemická 952\, Praha\, Praha
END:VEVENT
BEGIN:VEVENT
DTSTART;TZID=Europe/Prague:20240229T090000
DTEND;TZID=Europe/Prague:20240229T110000
DTSTAMP:20260425T060931
CREATED:20231229T110321Z
LAST-MODIFIED:20231229T110321Z
UID:12657-1709197200-1709204400@apua.cz
SUMMARY:Změny v oblasti elektronického podepisování a fikcí elektronického podpisu
DESCRIPTION:
URL:https://apua.cz/event/zmeny-v-oblasti-elektronickeho-podepisovani-a-fikci-elektronickeho-podpisu/
LOCATION:Online\, Online\, Online
END:VEVENT
END:VCALENDAR