BEGIN:VCALENDAR
VERSION:2.0
PRODID:-//APUA - ECPv6.15.20//NONSGML v1.0//EN
CALSCALE:GREGORIAN
METHOD:PUBLISH
X-WR-CALNAME:APUA
X-ORIGINAL-URL:https://apua.cz
X-WR-CALDESC:Akce na APUA
REFRESH-INTERVAL;VALUE=DURATION:PT1H
X-Robots-Tag:noindex
X-PUBLISHED-TTL:PT1H
BEGIN:VTIMEZONE
TZID:Europe/Prague
BEGIN:DAYLIGHT
TZOFFSETFROM:+0100
TZOFFSETTO:+0200
TZNAME:CEST
DTSTART:20220327T010000
END:DAYLIGHT
BEGIN:STANDARD
TZOFFSETFROM:+0200
TZOFFSETTO:+0100
TZNAME:CET
DTSTART:20221030T010000
END:STANDARD
BEGIN:DAYLIGHT
TZOFFSETFROM:+0100
TZOFFSETTO:+0200
TZNAME:CEST
DTSTART:20230326T010000
END:DAYLIGHT
BEGIN:STANDARD
TZOFFSETFROM:+0200
TZOFFSETTO:+0100
TZNAME:CET
DTSTART:20231029T010000
END:STANDARD
BEGIN:DAYLIGHT
TZOFFSETFROM:+0100
TZOFFSETTO:+0200
TZNAME:CEST
DTSTART:20240331T010000
END:DAYLIGHT
BEGIN:STANDARD
TZOFFSETFROM:+0200
TZOFFSETTO:+0100
TZNAME:CET
DTSTART:20241027T010000
END:STANDARD
END:VTIMEZONE
BEGIN:VEVENT
DTSTART;TZID=Europe/Prague:20230915T090000
DTEND;TZID=Europe/Prague:20230915T130000
DTSTAMP:20260425T130830
CREATED:20230516T113618Z
LAST-MODIFIED:20230516T113618Z
UID:10298-1694768400-1694782800@apua.cz
SUMMARY:Úprava úředních písemností
DESCRIPTION:
URL:https://apua.cz/event/uprava-urednich-pisemnosti/
LOCATION:Online\, Online\, Online
END:VEVENT
BEGIN:VEVENT
DTSTART;TZID=Europe/Prague:20230921T090000
DTEND;TZID=Europe/Prague:20230921T120000
DTSTAMP:20260425T130830
CREATED:20230605T140200Z
LAST-MODIFIED:20230606T083549Z
UID:10540-1695286800-1695297600@apua.cz
SUMMARY:Penetrační testování a prevence kybernetických útoků
DESCRIPTION:
URL:https://apua.cz/event/penetracni-testovani-a-prevence-kybernetickych-utoku/
LOCATION:Online\, Online\, Online
END:VEVENT
BEGIN:VEVENT
DTSTART;TZID=Europe/Prague:20230925T090000
DTEND;TZID=Europe/Prague:20230925T140000
DTSTAMP:20260425T130830
CREATED:20230710T193120Z
LAST-MODIFIED:20230710T194221Z
UID:11028-1695632400-1695650400@apua.cz
SUMMARY:Jak úspěšně zvládnout prvých 100 dní ve vedoucí funkci: na co se soustředit a jakým chybám se vyhnout
DESCRIPTION:
URL:https://apua.cz/event/jak-uspesne-zvladnout-prvych-100-dni-ve-vedouci-funkci-na-co-se-soustredit-a-jakym-chybam-se-vyhnout/
LOCATION:Online\, Online\, Online
END:VEVENT
END:VCALENDAR