BEGIN:VCALENDAR
VERSION:2.0
PRODID:-//APUA - ECPv6.15.20//NONSGML v1.0//EN
CALSCALE:GREGORIAN
METHOD:PUBLISH
X-ORIGINAL-URL:https://apua.cz
X-WR-CALDESC:Akce na APUA
REFRESH-INTERVAL;VALUE=DURATION:PT1H
X-Robots-Tag:noindex
X-PUBLISHED-TTL:PT1H
BEGIN:VTIMEZONE
TZID:Europe/Prague
BEGIN:DAYLIGHT
TZOFFSETFROM:+0100
TZOFFSETTO:+0200
TZNAME:CEST
DTSTART:20250330T010000
END:DAYLIGHT
BEGIN:STANDARD
TZOFFSETFROM:+0200
TZOFFSETTO:+0100
TZNAME:CET
DTSTART:20251026T010000
END:STANDARD
BEGIN:DAYLIGHT
TZOFFSETFROM:+0100
TZOFFSETTO:+0200
TZNAME:CEST
DTSTART:20260329T010000
END:DAYLIGHT
BEGIN:STANDARD
TZOFFSETFROM:+0200
TZOFFSETTO:+0100
TZNAME:CET
DTSTART:20261025T010000
END:STANDARD
BEGIN:DAYLIGHT
TZOFFSETFROM:+0100
TZOFFSETTO:+0200
TZNAME:CEST
DTSTART:20270328T010000
END:DAYLIGHT
BEGIN:STANDARD
TZOFFSETFROM:+0200
TZOFFSETTO:+0100
TZNAME:CET
DTSTART:20271031T010000
END:STANDARD
END:VTIMEZONE
BEGIN:VEVENT
DTSTART;TZID=Europe/Prague:20260528T090000
DTEND;TZID=Europe/Prague:20260529T160000
DTSTAMP:20260423T203802
CREATED:20220214T172605Z
LAST-MODIFIED:20260421T092754Z
UID:5392-1779958800-1780070400@apua.cz
SUMMARY:Excel – úroveň 2: Mám pevný základ a chci stavět dál
DESCRIPTION:
URL:https://apua.cz/event/excel-uroven-2-mam-pevny-zaklad-a-chci-stavet-dal/
LOCATION:Brno\, Křenová 409/52\, 602 00 Brno\, Brno
END:VEVENT
BEGIN:VEVENT
DTSTART;TZID=Europe/Prague:20260529T090000
DTEND;TZID=Europe/Prague:20260529T120000
DTSTAMP:20260423T203802
CREATED:20250314T084700Z
LAST-MODIFIED:20260224T110711Z
UID:17610-1780045200-1780056000@apua.cz
SUMMARY:Nové výzvy v ochraně duševního vlastnictví\, management duševního vlastnictví na veřejné vysoké škole
DESCRIPTION:
URL:https://apua.cz/event/nove-vyzvy-v-ochrane-dusevniho-vlastnictvi-management-dusevniho-vlastnictvi-na-verejne-vysoke-skole/
LOCATION:Online\, Online\, Online
END:VEVENT
END:VCALENDAR