BEGIN:VCALENDAR
VERSION:2.0
PRODID:-//APUA - ECPv6.15.20//NONSGML v1.0//EN
CALSCALE:GREGORIAN
METHOD:PUBLISH
X-WR-CALNAME:APUA
X-ORIGINAL-URL:https://apua.cz
X-WR-CALDESC:Akce na APUA
REFRESH-INTERVAL;VALUE=DURATION:PT1H
X-Robots-Tag:noindex
X-PUBLISHED-TTL:PT1H
BEGIN:VTIMEZONE
TZID:Europe/Prague
BEGIN:DAYLIGHT
TZOFFSETFROM:+0100
TZOFFSETTO:+0200
TZNAME:CEST
DTSTART:20250330T010000
END:DAYLIGHT
BEGIN:STANDARD
TZOFFSETFROM:+0200
TZOFFSETTO:+0100
TZNAME:CET
DTSTART:20251026T010000
END:STANDARD
BEGIN:DAYLIGHT
TZOFFSETFROM:+0100
TZOFFSETTO:+0200
TZNAME:CEST
DTSTART:20260329T010000
END:DAYLIGHT
BEGIN:STANDARD
TZOFFSETFROM:+0200
TZOFFSETTO:+0100
TZNAME:CET
DTSTART:20261025T010000
END:STANDARD
BEGIN:DAYLIGHT
TZOFFSETFROM:+0100
TZOFFSETTO:+0200
TZNAME:CEST
DTSTART:20270328T010000
END:DAYLIGHT
BEGIN:STANDARD
TZOFFSETFROM:+0200
TZOFFSETTO:+0100
TZNAME:CET
DTSTART:20271031T010000
END:STANDARD
END:VTIMEZONE
BEGIN:VEVENT
DTSTART;TZID=Europe/Prague:20260526T090000
DTEND;TZID=Europe/Prague:20260526T120000
DTSTAMP:20260423T203752
CREATED:20260420T064630Z
LAST-MODIFIED:20260420T064712Z
UID:20906-1779786000-1779796800@apua.cz
SUMMARY:Hodnocení elektronických podpisů
DESCRIPTION:
URL:https://apua.cz/event/hodnoceni-elektronickych-podpisu/
LOCATION:Online\, Online\, Online
END:VEVENT
BEGIN:VEVENT
DTSTART;TZID=Europe/Prague:20260526T090000
DTEND;TZID=Europe/Prague:20260526T140000
DTSTAMP:20260423T203752
CREATED:20251103T120912Z
LAST-MODIFIED:20251210T114448Z
UID:19294-1779786000-1779804000@apua.cz
SUMMARY:Svátky ze všech úhlů pohledu
DESCRIPTION:
URL:https://apua.cz/event/svatky-ze-vsech-uhlu-pohledu/
LOCATION:Online\, Online\, Online
END:VEVENT
END:VCALENDAR