BEGIN:VCALENDAR
VERSION:2.0
PRODID:-//APUA - ECPv6.15.20//NONSGML v1.0//EN
CALSCALE:GREGORIAN
METHOD:PUBLISH
X-ORIGINAL-URL:https://apua.cz
X-WR-CALDESC:Akce na APUA
REFRESH-INTERVAL;VALUE=DURATION:PT1H
X-Robots-Tag:noindex
X-PUBLISHED-TTL:PT1H
BEGIN:VTIMEZONE
TZID:Europe/Prague
BEGIN:DAYLIGHT
TZOFFSETFROM:+0100
TZOFFSETTO:+0200
TZNAME:CEST
DTSTART:20250330T010000
END:DAYLIGHT
BEGIN:STANDARD
TZOFFSETFROM:+0200
TZOFFSETTO:+0100
TZNAME:CET
DTSTART:20251026T010000
END:STANDARD
BEGIN:DAYLIGHT
TZOFFSETFROM:+0100
TZOFFSETTO:+0200
TZNAME:CEST
DTSTART:20260329T010000
END:DAYLIGHT
BEGIN:STANDARD
TZOFFSETFROM:+0200
TZOFFSETTO:+0100
TZNAME:CET
DTSTART:20261025T010000
END:STANDARD
BEGIN:DAYLIGHT
TZOFFSETFROM:+0100
TZOFFSETTO:+0200
TZNAME:CEST
DTSTART:20270328T010000
END:DAYLIGHT
BEGIN:STANDARD
TZOFFSETFROM:+0200
TZOFFSETTO:+0100
TZNAME:CET
DTSTART:20271031T010000
END:STANDARD
END:VTIMEZONE
BEGIN:VEVENT
DTSTART;TZID=Europe/Prague:20260519T090000
DTEND;TZID=Europe/Prague:20260519T120000
DTSTAMP:20260423T203924
CREATED:20230112T162000Z
LAST-MODIFIED:20260113T101930Z
UID:8902-1779181200-1779192000@apua.cz
SUMMARY:Základy účetnictví v prostředí VVŠ - 2. část - Aktiva a pasiva
DESCRIPTION:
URL:https://apua.cz/event/zaklady-ucetnictvi-v-prostredi-vvs-2-cast-aktiva-a-pasiva/
LOCATION:Online\, Online\, Online
END:VEVENT
BEGIN:VEVENT
DTSTART;TZID=Europe/Prague:20260519T090000
DTEND;TZID=Europe/Prague:20260519T120000
DTSTAMP:20260423T203924
CREATED:20260422T084544Z
LAST-MODIFIED:20260423T063248Z
UID:17927-1779181200-1779192000@apua.cz
SUMMARY:Microsoft 365 Copilot – placená verze
DESCRIPTION:
URL:https://apua.cz/event/microsoft_365_copilot_placena_verze/
LOCATION:Online\, Online\, Online
END:VEVENT
END:VCALENDAR