BEGIN:VCALENDAR
VERSION:2.0
PRODID:-//APUA - ECPv6.15.20//NONSGML v1.0//EN
CALSCALE:GREGORIAN
METHOD:PUBLISH
X-ORIGINAL-URL:https://apua.cz
X-WR-CALDESC:Akce na APUA
REFRESH-INTERVAL;VALUE=DURATION:PT1H
X-Robots-Tag:noindex
X-PUBLISHED-TTL:PT1H
BEGIN:VTIMEZONE
TZID:Europe/Prague
BEGIN:DAYLIGHT
TZOFFSETFROM:+0100
TZOFFSETTO:+0200
TZNAME:CEST
DTSTART:20250330T010000
END:DAYLIGHT
BEGIN:STANDARD
TZOFFSETFROM:+0200
TZOFFSETTO:+0100
TZNAME:CET
DTSTART:20251026T010000
END:STANDARD
BEGIN:DAYLIGHT
TZOFFSETFROM:+0100
TZOFFSETTO:+0200
TZNAME:CEST
DTSTART:20260329T010000
END:DAYLIGHT
BEGIN:STANDARD
TZOFFSETFROM:+0200
TZOFFSETTO:+0100
TZNAME:CET
DTSTART:20261025T010000
END:STANDARD
BEGIN:DAYLIGHT
TZOFFSETFROM:+0100
TZOFFSETTO:+0200
TZNAME:CEST
DTSTART:20270328T010000
END:DAYLIGHT
BEGIN:STANDARD
TZOFFSETFROM:+0200
TZOFFSETTO:+0100
TZNAME:CET
DTSTART:20271031T010000
END:STANDARD
END:VTIMEZONE
BEGIN:VEVENT
DTSTART;TZID=Europe/Prague:20260318T100000
DTEND;TZID=Europe/Prague:20260319T140000
DTSTAMP:20260423T204456
CREATED:20230206T105055Z
LAST-MODIFIED:20260219T123548Z
UID:6012-1773828000-1773928800@apua.cz
SUMMARY:Setkání investičních a provozních oddělení veřejných vysokých škol
DESCRIPTION:
URL:https://apua.cz/event/setkani-investicnich-a-provoznich-oddeleni-verejnych-vysokych-skol/
LOCATION:Zlín\, UTB ve Zlíně\, budova U2\, Mostní 5139\, 760 01 Zlín\, Zlín
END:VEVENT
BEGIN:VEVENT
DTSTART;TZID=Europe/Prague:20260319T090000
DTEND;TZID=Europe/Prague:20260319T120000
DTSTAMP:20260423T204456
CREATED:20251010T085726Z
LAST-MODIFIED:20251211T091041Z
UID:18916-1773910800-1773921600@apua.cz
SUMMARY:Nový zákon o výzkumu\, vývoji\, inovacích  a transferu znalostí (Nový zákon 328/2025 Sb.)
DESCRIPTION:
URL:https://apua.cz/event/novy-zakon-o-vyzkumu-vyvoji-inovacich-a-transferu-znalosti-novy-zakon-328-2025-sb/
LOCATION:Online\, Online\, Online
END:VEVENT
END:VCALENDAR