BEGIN:VCALENDAR
VERSION:2.0
PRODID:-//APUA - ECPv6.15.20//NONSGML v1.0//EN
CALSCALE:GREGORIAN
METHOD:PUBLISH
X-ORIGINAL-URL:https://apua.cz
X-WR-CALDESC:Akce na APUA
REFRESH-INTERVAL;VALUE=DURATION:PT1H
X-Robots-Tag:noindex
X-PUBLISHED-TTL:PT1H
BEGIN:VTIMEZONE
TZID:Europe/Prague
BEGIN:DAYLIGHT
TZOFFSETFROM:+0100
TZOFFSETTO:+0200
TZNAME:CEST
DTSTART:20240331T010000
END:DAYLIGHT
BEGIN:STANDARD
TZOFFSETFROM:+0200
TZOFFSETTO:+0100
TZNAME:CET
DTSTART:20241027T010000
END:STANDARD
BEGIN:DAYLIGHT
TZOFFSETFROM:+0100
TZOFFSETTO:+0200
TZNAME:CEST
DTSTART:20250330T010000
END:DAYLIGHT
BEGIN:STANDARD
TZOFFSETFROM:+0200
TZOFFSETTO:+0100
TZNAME:CET
DTSTART:20251026T010000
END:STANDARD
BEGIN:DAYLIGHT
TZOFFSETFROM:+0100
TZOFFSETTO:+0200
TZNAME:CEST
DTSTART:20260329T010000
END:DAYLIGHT
BEGIN:STANDARD
TZOFFSETFROM:+0200
TZOFFSETTO:+0100
TZNAME:CET
DTSTART:20261025T010000
END:STANDARD
END:VTIMEZONE
BEGIN:VEVENT
DTSTART;TZID=Europe/Prague:20251210T090000
DTEND;TZID=Europe/Prague:20251210T110000
DTSTAMP:20260424T010318
CREATED:20251120T085616Z
LAST-MODIFIED:20251120T085616Z
UID:19373-1765357200-1765364400@apua.cz
SUMMARY:Stipendia\, doktorský studijní příjem a doktorské stipendium
DESCRIPTION:
URL:https://apua.cz/event/stipendia-doktorsky-studijni-prijem-a-doktorske-stipendium/
LOCATION:Online\, Online\, Online
END:VEVENT
BEGIN:VEVENT
DTSTART;TZID=Europe/Prague:20251210T090000
DTEND;TZID=Europe/Prague:20251210T140000
DTSTAMP:20260424T010318
CREATED:20251022T094619Z
LAST-MODIFIED:20251022T111048Z
UID:19152-1765357200-1765375200@apua.cz
SUMMARY:Zákon o registru smluv
DESCRIPTION:
URL:https://apua.cz/event/zakon-o-registru-smluv-2/
LOCATION:Online\, Online\, Online
END:VEVENT
END:VCALENDAR