BEGIN:VCALENDAR
VERSION:2.0
PRODID:-//APUA - ECPv6.15.20//NONSGML v1.0//EN
CALSCALE:GREGORIAN
METHOD:PUBLISH
X-WR-CALNAME:APUA
X-ORIGINAL-URL:https://apua.cz
X-WR-CALDESC:Akce na APUA
REFRESH-INTERVAL;VALUE=DURATION:PT1H
X-Robots-Tag:noindex
X-PUBLISHED-TTL:PT1H
BEGIN:VTIMEZONE
TZID:Europe/Prague
BEGIN:DAYLIGHT
TZOFFSETFROM:+0100
TZOFFSETTO:+0200
TZNAME:CEST
DTSTART:20240331T010000
END:DAYLIGHT
BEGIN:STANDARD
TZOFFSETFROM:+0200
TZOFFSETTO:+0100
TZNAME:CET
DTSTART:20241027T010000
END:STANDARD
BEGIN:DAYLIGHT
TZOFFSETFROM:+0100
TZOFFSETTO:+0200
TZNAME:CEST
DTSTART:20250330T010000
END:DAYLIGHT
BEGIN:STANDARD
TZOFFSETFROM:+0200
TZOFFSETTO:+0100
TZNAME:CET
DTSTART:20251026T010000
END:STANDARD
BEGIN:DAYLIGHT
TZOFFSETFROM:+0100
TZOFFSETTO:+0200
TZNAME:CEST
DTSTART:20260329T010000
END:DAYLIGHT
BEGIN:STANDARD
TZOFFSETFROM:+0200
TZOFFSETTO:+0100
TZNAME:CET
DTSTART:20261025T010000
END:STANDARD
END:VTIMEZONE
BEGIN:VEVENT
DTSTART;TZID=Europe/Prague:20251208T090000
DTEND;TZID=Europe/Prague:20251208T110000
DTSTAMP:20260424T010250
CREATED:20251016T123132Z
LAST-MODIFIED:20251016T123132Z
UID:19085-1765184400-1765191600@apua.cz
SUMMARY:AI a multimédia
DESCRIPTION:
URL:https://apua.cz/event/ai-a-multimedia/
LOCATION:Online\, Online\, Online
END:VEVENT
BEGIN:VEVENT
DTSTART;TZID=Europe/Prague:20251208T090000
DTEND;TZID=Europe/Prague:20251208T130000
DTSTAMP:20260424T010250
CREATED:20251010T060916Z
LAST-MODIFIED:20251010T060916Z
UID:18874-1765184400-1765198800@apua.cz
SUMMARY:Uzávěrkové operace a nejčastější chyby s nimi spojené v příkladech
DESCRIPTION:
URL:https://apua.cz/event/uzaverkove-operace-a-nejcastejsi-chyby-s-nimi-spojene-v-prikladech-2/
LOCATION:Online\, Online\, Online
END:VEVENT
END:VCALENDAR