BEGIN:VCALENDAR
VERSION:2.0
PRODID:-//APUA - ECPv6.15.20//NONSGML v1.0//EN
CALSCALE:GREGORIAN
METHOD:PUBLISH
X-WR-CALNAME:APUA
X-ORIGINAL-URL:https://apua.cz
X-WR-CALDESC:Akce na APUA
REFRESH-INTERVAL;VALUE=DURATION:PT1H
X-Robots-Tag:noindex
X-PUBLISHED-TTL:PT1H
BEGIN:VTIMEZONE
TZID:Europe/Prague
BEGIN:DAYLIGHT
TZOFFSETFROM:+0100
TZOFFSETTO:+0200
TZNAME:CEST
DTSTART:20240331T010000
END:DAYLIGHT
BEGIN:STANDARD
TZOFFSETFROM:+0200
TZOFFSETTO:+0100
TZNAME:CET
DTSTART:20241027T010000
END:STANDARD
BEGIN:DAYLIGHT
TZOFFSETFROM:+0100
TZOFFSETTO:+0200
TZNAME:CEST
DTSTART:20250330T010000
END:DAYLIGHT
BEGIN:STANDARD
TZOFFSETFROM:+0200
TZOFFSETTO:+0100
TZNAME:CET
DTSTART:20251026T010000
END:STANDARD
BEGIN:DAYLIGHT
TZOFFSETFROM:+0100
TZOFFSETTO:+0200
TZNAME:CEST
DTSTART:20260329T010000
END:DAYLIGHT
BEGIN:STANDARD
TZOFFSETFROM:+0200
TZOFFSETTO:+0100
TZNAME:CET
DTSTART:20261025T010000
END:STANDARD
END:VTIMEZONE
BEGIN:VEVENT
DTSTART;TZID=Europe/Prague:20251107T090000
DTEND;TZID=Europe/Prague:20251107T120000
DTSTAMP:20260424T023002
CREATED:20240924T052308Z
LAST-MODIFIED:20251024T075612Z
UID:15380-1762506000-1762516800@apua.cz
SUMMARY:Umělá inteligence a její aplikace do účetní praxe včetně digitalizace účetních postupů
DESCRIPTION:
URL:https://apua.cz/event/vyuziti-umele-inteligence-v-ucetni-profesi/
LOCATION:Online\, Online\, Online
END:VEVENT
END:VCALENDAR