BEGIN:VCALENDAR
VERSION:2.0
PRODID:-//APUA - ECPv6.15.20//NONSGML v1.0//EN
CALSCALE:GREGORIAN
METHOD:PUBLISH
X-ORIGINAL-URL:https://apua.cz
X-WR-CALDESC:Akce na APUA
REFRESH-INTERVAL;VALUE=DURATION:PT1H
X-Robots-Tag:noindex
X-PUBLISHED-TTL:PT1H
BEGIN:VTIMEZONE
TZID:Europe/Prague
BEGIN:DAYLIGHT
TZOFFSETFROM:+0100
TZOFFSETTO:+0200
TZNAME:CEST
DTSTART:20240331T010000
END:DAYLIGHT
BEGIN:STANDARD
TZOFFSETFROM:+0200
TZOFFSETTO:+0100
TZNAME:CET
DTSTART:20241027T010000
END:STANDARD
BEGIN:DAYLIGHT
TZOFFSETFROM:+0100
TZOFFSETTO:+0200
TZNAME:CEST
DTSTART:20250330T010000
END:DAYLIGHT
BEGIN:STANDARD
TZOFFSETFROM:+0200
TZOFFSETTO:+0100
TZNAME:CET
DTSTART:20251026T010000
END:STANDARD
BEGIN:DAYLIGHT
TZOFFSETFROM:+0100
TZOFFSETTO:+0200
TZNAME:CEST
DTSTART:20260329T010000
END:DAYLIGHT
BEGIN:STANDARD
TZOFFSETFROM:+0200
TZOFFSETTO:+0100
TZNAME:CET
DTSTART:20261025T010000
END:STANDARD
END:VTIMEZONE
BEGIN:VEVENT
DTSTART;TZID=Europe/Prague:20250613T090000
DTEND;TZID=Europe/Prague:20250613T120000
DTSTAMP:20260424T084835
CREATED:20241202T135109Z
LAST-MODIFIED:20250128T151659Z
UID:16019-1749805200-1749816000@apua.cz
SUMMARY:Jak si vytvořit druhý mozek v Obsidianu?
DESCRIPTION:
URL:https://apua.cz/event/jak-si-vytvorit-druhy-mozek-v-obsidianu/
LOCATION:Online\, Online\, Online
END:VEVENT
BEGIN:VEVENT
DTSTART;TZID=Europe/Prague:20250613T090000
DTEND;TZID=Europe/Prague:20250613T123000
DTSTAMP:20260424T084835
CREATED:20230125T121851Z
LAST-MODIFIED:20250520T073018Z
UID:9047-1749805200-1749817800@apua.cz
SUMMARY:Správní řád prakticky v prostředí VŠ
DESCRIPTION:
URL:https://apua.cz/event/spravni-rad-prakticky/
LOCATION:Online\, Online\, Online
END:VEVENT
END:VCALENDAR