BEGIN:VCALENDAR
VERSION:2.0
PRODID:-//APUA - ECPv6.15.20//NONSGML v1.0//EN
CALSCALE:GREGORIAN
METHOD:PUBLISH
X-ORIGINAL-URL:https://apua.cz
X-WR-CALDESC:Akce na APUA
REFRESH-INTERVAL;VALUE=DURATION:PT1H
X-Robots-Tag:noindex
X-PUBLISHED-TTL:PT1H
BEGIN:VTIMEZONE
TZID:Europe/Prague
BEGIN:DAYLIGHT
TZOFFSETFROM:+0100
TZOFFSETTO:+0200
TZNAME:CEST
DTSTART:20240331T010000
END:DAYLIGHT
BEGIN:STANDARD
TZOFFSETFROM:+0200
TZOFFSETTO:+0100
TZNAME:CET
DTSTART:20241027T010000
END:STANDARD
BEGIN:DAYLIGHT
TZOFFSETFROM:+0100
TZOFFSETTO:+0200
TZNAME:CEST
DTSTART:20250330T010000
END:DAYLIGHT
BEGIN:STANDARD
TZOFFSETFROM:+0200
TZOFFSETTO:+0100
TZNAME:CET
DTSTART:20251026T010000
END:STANDARD
BEGIN:DAYLIGHT
TZOFFSETFROM:+0100
TZOFFSETTO:+0200
TZNAME:CEST
DTSTART:20260329T010000
END:DAYLIGHT
BEGIN:STANDARD
TZOFFSETFROM:+0200
TZOFFSETTO:+0100
TZNAME:CET
DTSTART:20261025T010000
END:STANDARD
END:VTIMEZONE
BEGIN:VEVENT
DTSTART;TZID=Europe/Prague:20250612T090000
DTEND;TZID=Europe/Prague:20250612T110000
DTSTAMP:20260424T084837
CREATED:20250225T151605Z
LAST-MODIFIED:20250225T151605Z
UID:17342-1749718800-1749726000@apua.cz
SUMMARY:Nařízení EU o umělé inteligenci (AI Act)
DESCRIPTION:
URL:https://apua.cz/event/narizeni-eu-o-umele-inteligenci-ai-act/
LOCATION:Online\, Online\, Online
END:VEVENT
BEGIN:VEVENT
DTSTART;TZID=Europe/Prague:20250612T100000
DTEND;TZID=Europe/Prague:20250612T143000
DTSTAMP:20260424T084837
CREATED:20250520T072045Z
LAST-MODIFIED:20250603T071711Z
UID:4501-1749722400-1749738600@apua.cz
SUMMARY:Struktura a tvorba vnitřních předpisů
DESCRIPTION:
URL:https://apua.cz/event/struktura-a-tvorba-vnitrnich-predpisu/
LOCATION:Online\, Online\, Online
END:VEVENT
END:VCALENDAR