BEGIN:VCALENDAR
VERSION:2.0
PRODID:-//APUA - ECPv6.15.20//NONSGML v1.0//EN
CALSCALE:GREGORIAN
METHOD:PUBLISH
X-WR-CALNAME:APUA
X-ORIGINAL-URL:https://apua.cz
X-WR-CALDESC:Akce na APUA
REFRESH-INTERVAL;VALUE=DURATION:PT1H
X-Robots-Tag:noindex
X-PUBLISHED-TTL:PT1H
BEGIN:VTIMEZONE
TZID:Europe/Prague
BEGIN:DAYLIGHT
TZOFFSETFROM:+0100
TZOFFSETTO:+0200
TZNAME:CEST
DTSTART:20240331T010000
END:DAYLIGHT
BEGIN:STANDARD
TZOFFSETFROM:+0200
TZOFFSETTO:+0100
TZNAME:CET
DTSTART:20241027T010000
END:STANDARD
BEGIN:DAYLIGHT
TZOFFSETFROM:+0100
TZOFFSETTO:+0200
TZNAME:CEST
DTSTART:20250330T010000
END:DAYLIGHT
BEGIN:STANDARD
TZOFFSETFROM:+0200
TZOFFSETTO:+0100
TZNAME:CET
DTSTART:20251026T010000
END:STANDARD
BEGIN:DAYLIGHT
TZOFFSETFROM:+0100
TZOFFSETTO:+0200
TZNAME:CEST
DTSTART:20260329T010000
END:DAYLIGHT
BEGIN:STANDARD
TZOFFSETFROM:+0200
TZOFFSETTO:+0100
TZNAME:CET
DTSTART:20261025T010000
END:STANDARD
END:VTIMEZONE
BEGIN:VEVENT
DTSTART;TZID=Europe/Prague:20250516T090000
DTEND;TZID=Europe/Prague:20250516T110000
DTSTAMP:20260424T101014
CREATED:20241105T141717Z
LAST-MODIFIED:20250401T091612Z
UID:15869-1747386000-1747393200@apua.cz
SUMMARY:AI v jazykové výuce na VŠ: Nástroje a praktické tipy
DESCRIPTION:
URL:https://apua.cz/event/ai-v-jazykove-vyuce-na-vs-nastroje-a-prakticke-tipy/
LOCATION:Online\, Online\, Online
END:VEVENT
BEGIN:VEVENT
DTSTART;TZID=Europe/Prague:20250516T090000
DTEND;TZID=Europe/Prague:20250516T130000
DTSTAMP:20260424T101014
CREATED:20250506T070059Z
LAST-MODIFIED:20250506T095230Z
UID:17575-1747386000-1747400400@apua.cz
SUMMARY:Flexibilní novela a změny u lékařských prohlídek
DESCRIPTION:
URL:https://apua.cz/event/flexibilni-novela-a-zmeny-u-lekarskych-prohlidek/
LOCATION:Online\, Online\, Online
END:VEVENT
END:VCALENDAR