BEGIN:VCALENDAR
VERSION:2.0
PRODID:-//APUA - ECPv6.15.20//NONSGML v1.0//EN
CALSCALE:GREGORIAN
METHOD:PUBLISH
X-ORIGINAL-URL:https://apua.cz
X-WR-CALDESC:Akce na APUA
REFRESH-INTERVAL;VALUE=DURATION:PT1H
X-Robots-Tag:noindex
X-PUBLISHED-TTL:PT1H
BEGIN:VTIMEZONE
TZID:Europe/Prague
BEGIN:DAYLIGHT
TZOFFSETFROM:+0100
TZOFFSETTO:+0200
TZNAME:CEST
DTSTART:20230326T010000
END:DAYLIGHT
BEGIN:STANDARD
TZOFFSETFROM:+0200
TZOFFSETTO:+0100
TZNAME:CET
DTSTART:20231029T010000
END:STANDARD
BEGIN:DAYLIGHT
TZOFFSETFROM:+0100
TZOFFSETTO:+0200
TZNAME:CEST
DTSTART:20240331T010000
END:DAYLIGHT
BEGIN:STANDARD
TZOFFSETFROM:+0200
TZOFFSETTO:+0100
TZNAME:CET
DTSTART:20241027T010000
END:STANDARD
BEGIN:DAYLIGHT
TZOFFSETFROM:+0100
TZOFFSETTO:+0200
TZNAME:CEST
DTSTART:20250330T010000
END:DAYLIGHT
BEGIN:STANDARD
TZOFFSETFROM:+0200
TZOFFSETTO:+0100
TZNAME:CET
DTSTART:20251026T010000
END:STANDARD
END:VTIMEZONE
BEGIN:VEVENT
DTSTART;TZID=Europe/Prague:20241112T100000
DTEND;TZID=Europe/Prague:20241113T134500
DTSTAMP:20260424T195741
CREATED:20240923T071600Z
LAST-MODIFIED:20241003T123528Z
UID:15326-1731405600-1731505500@apua.cz
SUMMARY:Setkání mzdových oddělení vysokých škol
DESCRIPTION:
URL:https://apua.cz/event/setkani-mzdovych-oddeleni-vysokych-skol/
LOCATION:Olomouc – hotel Flora\, Olomouc - hotel Flora\, Krapkova 439/34\, Olomouc
END:VEVENT
END:VCALENDAR