BEGIN:VCALENDAR
VERSION:2.0
PRODID:-//APUA - ECPv6.15.20//NONSGML v1.0//EN
CALSCALE:GREGORIAN
METHOD:PUBLISH
X-WR-CALNAME:APUA
X-ORIGINAL-URL:https://apua.cz
X-WR-CALDESC:Akce na APUA
REFRESH-INTERVAL;VALUE=DURATION:PT1H
X-Robots-Tag:noindex
X-PUBLISHED-TTL:PT1H
BEGIN:VTIMEZONE
TZID:Europe/Prague
BEGIN:DAYLIGHT
TZOFFSETFROM:+0100
TZOFFSETTO:+0200
TZNAME:CEST
DTSTART:20230326T010000
END:DAYLIGHT
BEGIN:STANDARD
TZOFFSETFROM:+0200
TZOFFSETTO:+0100
TZNAME:CET
DTSTART:20231029T010000
END:STANDARD
BEGIN:DAYLIGHT
TZOFFSETFROM:+0100
TZOFFSETTO:+0200
TZNAME:CEST
DTSTART:20240331T010000
END:DAYLIGHT
BEGIN:STANDARD
TZOFFSETFROM:+0200
TZOFFSETTO:+0100
TZNAME:CET
DTSTART:20241027T010000
END:STANDARD
BEGIN:DAYLIGHT
TZOFFSETFROM:+0100
TZOFFSETTO:+0200
TZNAME:CEST
DTSTART:20250330T010000
END:DAYLIGHT
BEGIN:STANDARD
TZOFFSETFROM:+0200
TZOFFSETTO:+0100
TZNAME:CET
DTSTART:20251026T010000
END:STANDARD
END:VTIMEZONE
BEGIN:VEVENT
DTSTART;TZID=Europe/Prague:20240612T090000
DTEND;TZID=Europe/Prague:20240612T130000
DTSTAMP:20260425T021229
CREATED:20231017T182626Z
LAST-MODIFIED:20240514T062306Z
UID:11952-1718182800-1718197200@apua.cz
SUMMARY:Nemocenské pojištění a pojistné na sociální zabezpečení 2024/2025
DESCRIPTION:
URL:https://apua.cz/event/nemocenske-pojisteni-a-pojistne-na-socialni-zabezpeceni/
LOCATION:Online\, Online\, Online
END:VEVENT
BEGIN:VEVENT
DTSTART;TZID=Europe/Prague:20240612T100000
DTEND;TZID=Europe/Prague:20240612T145000
DTSTAMP:20260425T021229
CREATED:20240512T080025Z
LAST-MODIFIED:20240514T070421Z
UID:9800-1718186400-1718203800@apua.cz
SUMMARY:Smlouvy v praxi VVŠ
DESCRIPTION:
URL:https://apua.cz/event/smlouvy-v-praxi-vvs/
LOCATION:Online\, Online\, Online
END:VEVENT
END:VCALENDAR